BEGIN:VCALENDAR
VERSION:2.0
PRODID:-//Family Services of Greater Vancouver - ECPv6.15.20//NONSGML v1.0//EN
CALSCALE:GREGORIAN
METHOD:PUBLISH
X-ORIGINAL-URL:https://fsgv.ca
X-WR-CALDESC:Events for Family Services of Greater Vancouver
REFRESH-INTERVAL;VALUE=DURATION:PT1H
X-Robots-Tag:noindex
X-PUBLISHED-TTL:PT1H
BEGIN:VTIMEZONE
TZID:America/Vancouver
BEGIN:DAYLIGHT
TZOFFSETFROM:-0800
TZOFFSETTO:-0700
TZNAME:PDT
DTSTART:20240310T100000
END:DAYLIGHT
BEGIN:STANDARD
TZOFFSETFROM:-0700
TZOFFSETTO:-0800
TZNAME:PST
DTSTART:20241103T090000
END:STANDARD
BEGIN:DAYLIGHT
TZOFFSETFROM:-0800
TZOFFSETTO:-0700
TZNAME:PDT
DTSTART:20250309T100000
END:DAYLIGHT
BEGIN:STANDARD
TZOFFSETFROM:-0700
TZOFFSETTO:-0800
TZNAME:PST
DTSTART:20251102T090000
END:STANDARD
BEGIN:DAYLIGHT
TZOFFSETFROM:-0800
TZOFFSETTO:-0700
TZNAME:PDT
DTSTART:20260308T100000
END:DAYLIGHT
BEGIN:STANDARD
TZOFFSETFROM:-0700
TZOFFSETTO:-0800
TZNAME:PST
DTSTART:20261101T090000
END:STANDARD
END:VTIMEZONE
BEGIN:VEVENT
DTSTART;TZID=America/Vancouver:20250729T153000
DTEND;TZID=America/Vancouver:20250729T173000
DTSTAMP:20260418T133020
CREATED:20250612T221421Z
LAST-MODIFIED:20250805T165755Z
UID:10001019-1753803000-1753810200@fsgv.ca
SUMMARY:Summer Supper Club Cooking Program
DESCRIPTION:A free cooking program for families with children 6-12 years old.\nCome join us in July for some family fun in the kitchen! Parents and caregivers with their elementary school-aged children are welcome to put on their chef hats and cook up a storm. \n*Registration required: https://forms.office.com/r/YgsdTMn2sy
URL:https://fsgv.ca/event/summer-supper-club-cooking-program/2025-07-29/
LOCATION:Vancouver Family Preservion & Reunification Services\, 4103 Fraser St.\, Vancouver\, British Columbia\, V5V 4E9\, Canada
CATEGORIES:Community Kitchens,Parent Education and Support Groups
ATTACH;FMTTYPE=image/jpeg:https://fsgv.ca/wp-content/uploads/2025/06/Summer-Supper-Club-Family-Program-July-2025.jpg
END:VEVENT
END:VCALENDAR