BEGIN:VCALENDAR
VERSION:2.0
PRODID:-//Family Services of Greater Vancouver - ECPv6.15.20//NONSGML v1.0//EN
CALSCALE:GREGORIAN
METHOD:PUBLISH
X-ORIGINAL-URL:https://fsgv.ca
X-WR-CALDESC:Events for Family Services of Greater Vancouver
REFRESH-INTERVAL;VALUE=DURATION:PT1H
X-Robots-Tag:noindex
X-PUBLISHED-TTL:PT1H
BEGIN:VTIMEZONE
TZID:America/Vancouver
BEGIN:DAYLIGHT
TZOFFSETFROM:-0800
TZOFFSETTO:-0700
TZNAME:PDT
DTSTART:20240310T100000
END:DAYLIGHT
BEGIN:STANDARD
TZOFFSETFROM:-0700
TZOFFSETTO:-0800
TZNAME:PST
DTSTART:20241103T090000
END:STANDARD
BEGIN:DAYLIGHT
TZOFFSETFROM:-0800
TZOFFSETTO:-0700
TZNAME:PDT
DTSTART:20250309T100000
END:DAYLIGHT
BEGIN:STANDARD
TZOFFSETFROM:-0700
TZOFFSETTO:-0800
TZNAME:PST
DTSTART:20251102T090000
END:STANDARD
BEGIN:DAYLIGHT
TZOFFSETFROM:-0800
TZOFFSETTO:-0700
TZNAME:PDT
DTSTART:20260308T100000
END:DAYLIGHT
BEGIN:STANDARD
TZOFFSETFROM:-0700
TZOFFSETTO:-0800
TZNAME:PST
DTSTART:20261101T090000
END:STANDARD
END:VTIMEZONE
BEGIN:VEVENT
DTSTART;TZID=America/Vancouver:20250801T100000
DTEND;TZID=America/Vancouver:20250801T120000
DTSTAMP:20260419T113143
CREATED:20250513T174804Z
LAST-MODIFIED:20250513T174955Z
UID:10000953-1754042400-1754049600@fsgv.ca
SUMMARY:English Conversation Community Kitchen for Moms
DESCRIPTION:FREE cooking classes and English conversation for immigrant moms with young children \nHave fun practicing English and cooking with other moms while learning about community resources and healthy eating. \nTo register \nPlease call 604 900 6136 or email Joanne at jmonteiro@fsgv.ca \n*Participants must register\n*Free childminding available–kids learn and play while you cook and practice English
URL:https://fsgv.ca/event/english-conversation-community-kitchen-for-moms/2025-08-01/
LOCATION:Richmond Caring Place\, 340-7000 Minoru Blvd\, Richmond\, BC\, V6Y 3Z5\, Canada
CATEGORIES:Community Kitchens,Community Programs
ATTACH;FMTTYPE=image/jpeg:https://fsgv.ca/wp-content/uploads/2025/05/English-conversation-community-kitchen-workshop-featured-image-July-2025.jpg
END:VEVENT
END:VCALENDAR