BEGIN:VCALENDAR
VERSION:2.0
PRODID:-//Family Services of Greater Vancouver - ECPv6.15.20//NONSGML v1.0//EN
CALSCALE:GREGORIAN
METHOD:PUBLISH
X-WR-CALNAME:Family Services of Greater Vancouver
X-ORIGINAL-URL:https://fsgv.ca
X-WR-CALDESC:Events for Family Services of Greater Vancouver
REFRESH-INTERVAL;VALUE=DURATION:PT1H
X-Robots-Tag:noindex
X-PUBLISHED-TTL:PT1H
BEGIN:VTIMEZONE
TZID:America/Vancouver
BEGIN:DAYLIGHT
TZOFFSETFROM:-0800
TZOFFSETTO:-0700
TZNAME:PDT
DTSTART:20240310T100000
END:DAYLIGHT
BEGIN:STANDARD
TZOFFSETFROM:-0700
TZOFFSETTO:-0800
TZNAME:PST
DTSTART:20241103T090000
END:STANDARD
BEGIN:DAYLIGHT
TZOFFSETFROM:-0800
TZOFFSETTO:-0700
TZNAME:PDT
DTSTART:20250309T100000
END:DAYLIGHT
BEGIN:STANDARD
TZOFFSETFROM:-0700
TZOFFSETTO:-0800
TZNAME:PST
DTSTART:20251102T090000
END:STANDARD
BEGIN:DAYLIGHT
TZOFFSETFROM:-0800
TZOFFSETTO:-0700
TZNAME:PDT
DTSTART:20260308T100000
END:DAYLIGHT
BEGIN:STANDARD
TZOFFSETFROM:-0700
TZOFFSETTO:-0800
TZNAME:PST
DTSTART:20261101T090000
END:STANDARD
END:VTIMEZONE
BEGIN:VEVENT
DTSTART;TZID=America/Vancouver:20250812T100000
DTEND;TZID=America/Vancouver:20250812T120000
DTSTAMP:20260421T162551
CREATED:20250612T221931Z
LAST-MODIFIED:20250805T165643Z
UID:10001025-1754992800-1755000000@fsgv.ca
SUMMARY:Tea and Time for Me
DESCRIPTION:A support group for parents and caregivers to learn and practice self-compassion.\nIn the busyness of taking care of our kids and managing everyday life\, how do we pause and give permission to be kind to ourselves. In this group\, we will talk about the benefits of relaxation and mindfulness. We will explore some simple guided practices to help participants unwind and de-stress. Please come as you are and fill up your cup as needed! \n*Registration required: https://forms.office.com/r/YgsdTMn2sy
URL:https://fsgv.ca/event/tea-and-time-for-me/2025-08-12/
LOCATION:Vancouver Family Preservion & Reunification Services\, 4103 Fraser St.\, Vancouver\, British Columbia\, V5V 4E9\, Canada
CATEGORIES:Family Literacy,Family Preservation,Parent Education and Support Groups
ATTACH;FMTTYPE=image/jpeg:https://fsgv.ca/wp-content/uploads/2025/06/Tea-and-Time-for-Me-Family-Program-Sept-2025.jpg
END:VEVENT
BEGIN:VEVENT
DTSTART;TZID=America/Vancouver:20250812T110000
DTEND;TZID=America/Vancouver:20250812T123000
DTSTAMP:20260421T162551
CREATED:20250710T175655Z
LAST-MODIFIED:20250710T175655Z
UID:10001027-1754996400-1755001800@fsgv.ca
SUMMARY:Navigating Death Benefits and Funeral Costs
DESCRIPTION:Funeral expenses can be a significant burden\, especially for low-income families. \nThis workshop explores the costs involved and government benefits available to assist with funeral expenses\, such as the Canada Pension Plan Death Benefit and other provincial supports. \nPresented in partnership with Vancouver Public Library. \n*This is an online event. You will need a computer\, tablet or phone to join the event on Zoom\, your camera and audio will automatically be turned off.\n*Registration required. Limited spots available.
URL:https://fsgv.ca/event/navigating-death-benefits-and-funeral-costs/
LOCATION:Zoom
CATEGORIES:Family Literacy,Financial Empowerment,Virtual Events
ATTACH;FMTTYPE=image/jpeg:https://fsgv.ca/wp-content/uploads/2025/07/Death-Benefits-and-Funeral-Costs-FE-July-2025.jpg
ORGANIZER;CN="Vancouver Public Library":MAILTO:info@vpl.ca
END:VEVENT
END:VCALENDAR