BEGIN:VCALENDAR
VERSION:2.0
PRODID:-//Family Services of Greater Vancouver - ECPv6.15.20//NONSGML v1.0//EN
CALSCALE:GREGORIAN
METHOD:PUBLISH
X-ORIGINAL-URL:https://fsgv.ca
X-WR-CALDESC:Events for Family Services of Greater Vancouver
REFRESH-INTERVAL;VALUE=DURATION:PT1H
X-Robots-Tag:noindex
X-PUBLISHED-TTL:PT1H
BEGIN:VTIMEZONE
TZID:America/Vancouver
BEGIN:DAYLIGHT
TZOFFSETFROM:-0800
TZOFFSETTO:-0700
TZNAME:PDT
DTSTART:20220313T100000
END:DAYLIGHT
BEGIN:STANDARD
TZOFFSETFROM:-0700
TZOFFSETTO:-0800
TZNAME:PST
DTSTART:20221106T090000
END:STANDARD
BEGIN:DAYLIGHT
TZOFFSETFROM:-0800
TZOFFSETTO:-0700
TZNAME:PDT
DTSTART:20230312T100000
END:DAYLIGHT
BEGIN:STANDARD
TZOFFSETFROM:-0700
TZOFFSETTO:-0800
TZNAME:PST
DTSTART:20231105T090000
END:STANDARD
BEGIN:DAYLIGHT
TZOFFSETFROM:-0800
TZOFFSETTO:-0700
TZNAME:PDT
DTSTART:20240310T100000
END:DAYLIGHT
BEGIN:STANDARD
TZOFFSETFROM:-0700
TZOFFSETTO:-0800
TZNAME:PST
DTSTART:20241103T090000
END:STANDARD
END:VTIMEZONE
BEGIN:VEVENT
DTSTART;TZID=America/Vancouver:20230417T093000
DTEND;TZID=America/Vancouver:20230417T120000
DTSTAMP:20260421T005928
CREATED:20230113T201800Z
LAST-MODIFIED:20230331T213231Z
UID:10000645-1681723800-1681732800@fsgv.ca
SUMMARY:Creative Explorations (New Westminster)
DESCRIPTION:A program for parents and young children (ages 0-6) to explore creativity through arts and crafts\, songs and stories. Parent participation required. \n\nTo register\, contact ceds-nw@fsgv.ca or 604-368-2154.  \n\n\n 
URL:https://fsgv.ca/event/creative-explorations-3/2023-04-17/
LOCATION:Olivet Church\, 613 Queens Avenue\, New Westminster\, BC\, V3M1L1\, Canada
CATEGORIES:Family Literacy,Physical Location Events
ATTACH;FMTTYPE=application/pdf:https://fsgv.ca/wp-content/uploads/2023/01/Creative-Explorations-2.pdf
END:VEVENT
BEGIN:VEVENT
DTSTART;TZID=America/Vancouver:20230403T093000
DTEND;TZID=America/Vancouver:20230403T120000
DTSTAMP:20260421T005928
CREATED:20230113T201800Z
LAST-MODIFIED:20230331T213231Z
UID:10000644-1680514200-1680523200@fsgv.ca
SUMMARY:Creative Explorations (New Westminster)
DESCRIPTION:A program for parents and young children (ages 0-6) to explore creativity through arts and crafts\, songs and stories. Parent participation required. \n\nTo register\, contact ceds-nw@fsgv.ca or 604-368-2154.  \n\n\n 
URL:https://fsgv.ca/event/creative-explorations-3/2023-04-03/
LOCATION:Olivet Church\, 613 Queens Avenue\, New Westminster\, BC\, V3M1L1\, Canada
CATEGORIES:Family Literacy,Physical Location Events
ATTACH;FMTTYPE=application/pdf:https://fsgv.ca/wp-content/uploads/2023/01/Creative-Explorations-2.pdf
END:VEVENT
BEGIN:VEVENT
DTSTART;TZID=America/Vancouver:20230306T093000
DTEND;TZID=America/Vancouver:20230306T120000
DTSTAMP:20260421T005928
CREATED:20230117T193003Z
LAST-MODIFIED:20230117T193003Z
UID:10000672-1678095000-1678104000@fsgv.ca
SUMMARY:Creative Explorations (New Westminster)
DESCRIPTION:A program for parents and young children (ages 0-6) to explore creativity through arts and crafts\, songs and stories. Parent participation required. \nTo register\, contact richceds@fsgv.ca or 604-279-7100. 
URL:https://fsgv.ca/event/creative-explorations-6/2023-03-06/
LOCATION:Olivet Church\, 613 Queens Avenue\, New Westminster\, BC\, V3M1L1\, Canada
CATEGORIES:Family Literacy,Physical Location Events
ATTACH;FMTTYPE=application/pdf:https://fsgv.ca/wp-content/uploads/2023/01/Creative-Explorations-4.pdf
END:VEVENT
BEGIN:VEVENT
DTSTART;TZID=America/Vancouver:20230301T103000
DTEND;TZID=America/Vancouver:20230301T120000
DTSTAMP:20260421T005928
CREATED:20230117T013356Z
LAST-MODIFIED:20230130T183608Z
UID:10000662-1677666600-1677672000@fsgv.ca
SUMMARY:Creative Explorations (Richmond)
DESCRIPTION:A program for parents and young children (ages 0-6) to explore creativity through arts and crafts\, songs and stories. Parent participation required. \nTo register\, contact richceds@fsgv.ca or 604-279-7100. 
URL:https://fsgv.ca/event/creative-explorations-5/2023-03-01/
LOCATION:Richmond Caring Place\, 340-7000 Minoru Blvd\, Richmond\, BC\, V6Y 3Z5\, Canada
CATEGORIES:Family Literacy,Physical Location Events
ATTACH;FMTTYPE=application/pdf:https://fsgv.ca/wp-content/uploads/2023/01/Creative-Explorations-3.pdf
END:VEVENT
BEGIN:VEVENT
DTSTART;TZID=America/Vancouver:20230227T093000
DTEND;TZID=America/Vancouver:20230227T120000
DTSTAMP:20260421T005928
CREATED:20230117T193003Z
LAST-MODIFIED:20230117T193003Z
UID:10000671-1677490200-1677499200@fsgv.ca
SUMMARY:Creative Explorations (New Westminster)
DESCRIPTION:A program for parents and young children (ages 0-6) to explore creativity through arts and crafts\, songs and stories. Parent participation required. \nTo register\, contact richceds@fsgv.ca or 604-279-7100. 
URL:https://fsgv.ca/event/creative-explorations-6/2023-02-27/
LOCATION:Olivet Church\, 613 Queens Avenue\, New Westminster\, BC\, V3M1L1\, Canada
CATEGORIES:Family Literacy,Physical Location Events
ATTACH;FMTTYPE=application/pdf:https://fsgv.ca/wp-content/uploads/2023/01/Creative-Explorations-4.pdf
END:VEVENT
BEGIN:VEVENT
DTSTART;TZID=America/Vancouver:20230222T103000
DTEND;TZID=America/Vancouver:20230222T120000
DTSTAMP:20260421T005928
CREATED:20230117T013356Z
LAST-MODIFIED:20230130T183608Z
UID:10000661-1677061800-1677067200@fsgv.ca
SUMMARY:Creative Explorations (Richmond)
DESCRIPTION:A program for parents and young children (ages 0-6) to explore creativity through arts and crafts\, songs and stories. Parent participation required. \nTo register\, contact richceds@fsgv.ca or 604-279-7100. 
URL:https://fsgv.ca/event/creative-explorations-5/2023-02-22/
LOCATION:Richmond Caring Place\, 340-7000 Minoru Blvd\, Richmond\, BC\, V6Y 3Z5\, Canada
CATEGORIES:Family Literacy,Physical Location Events
ATTACH;FMTTYPE=application/pdf:https://fsgv.ca/wp-content/uploads/2023/01/Creative-Explorations-3.pdf
END:VEVENT
BEGIN:VEVENT
DTSTART;TZID=America/Vancouver:20230215T103000
DTEND;TZID=America/Vancouver:20230215T120000
DTSTAMP:20260421T005928
CREATED:20230117T013356Z
LAST-MODIFIED:20230130T183608Z
UID:10000660-1676457000-1676462400@fsgv.ca
SUMMARY:Creative Explorations (Richmond)
DESCRIPTION:A program for parents and young children (ages 0-6) to explore creativity through arts and crafts\, songs and stories. Parent participation required. \nTo register\, contact richceds@fsgv.ca or 604-279-7100. 
URL:https://fsgv.ca/event/creative-explorations-5/2023-02-15/
LOCATION:Richmond Caring Place\, 340-7000 Minoru Blvd\, Richmond\, BC\, V6Y 3Z5\, Canada
CATEGORIES:Family Literacy,Physical Location Events
ATTACH;FMTTYPE=application/pdf:https://fsgv.ca/wp-content/uploads/2023/01/Creative-Explorations-3.pdf
END:VEVENT
BEGIN:VEVENT
DTSTART;TZID=America/Vancouver:20230213T093000
DTEND;TZID=America/Vancouver:20230213T120000
DTSTAMP:20260421T005928
CREATED:20230117T193003Z
LAST-MODIFIED:20230117T193003Z
UID:10000670-1676280600-1676289600@fsgv.ca
SUMMARY:Creative Explorations (New Westminster)
DESCRIPTION:A program for parents and young children (ages 0-6) to explore creativity through arts and crafts\, songs and stories. Parent participation required. \nTo register\, contact richceds@fsgv.ca or 604-279-7100. 
URL:https://fsgv.ca/event/creative-explorations-6/2023-02-13/
LOCATION:Olivet Church\, 613 Queens Avenue\, New Westminster\, BC\, V3M1L1\, Canada
CATEGORIES:Family Literacy,Physical Location Events
ATTACH;FMTTYPE=application/pdf:https://fsgv.ca/wp-content/uploads/2023/01/Creative-Explorations-4.pdf
END:VEVENT
BEGIN:VEVENT
DTSTART;TZID=America/Vancouver:20230208T103000
DTEND;TZID=America/Vancouver:20230208T120000
DTSTAMP:20260421T005928
CREATED:20230117T013356Z
LAST-MODIFIED:20230130T183608Z
UID:10000659-1675852200-1675857600@fsgv.ca
SUMMARY:Creative Explorations (Richmond)
DESCRIPTION:A program for parents and young children (ages 0-6) to explore creativity through arts and crafts\, songs and stories. Parent participation required. \nTo register\, contact richceds@fsgv.ca or 604-279-7100. 
URL:https://fsgv.ca/event/creative-explorations-5/2023-02-08/
LOCATION:Richmond Caring Place\, 340-7000 Minoru Blvd\, Richmond\, BC\, V6Y 3Z5\, Canada
CATEGORIES:Family Literacy,Physical Location Events
ATTACH;FMTTYPE=application/pdf:https://fsgv.ca/wp-content/uploads/2023/01/Creative-Explorations-3.pdf
END:VEVENT
BEGIN:VEVENT
DTSTART;TZID=America/Vancouver:20230206T093000
DTEND;TZID=America/Vancouver:20230206T120000
DTSTAMP:20260421T005928
CREATED:20230117T193003Z
LAST-MODIFIED:20230117T193003Z
UID:10000669-1675675800-1675684800@fsgv.ca
SUMMARY:Creative Explorations (New Westminster)
DESCRIPTION:A program for parents and young children (ages 0-6) to explore creativity through arts and crafts\, songs and stories. Parent participation required. \nTo register\, contact richceds@fsgv.ca or 604-279-7100. 
URL:https://fsgv.ca/event/creative-explorations-6/2023-02-06/
LOCATION:Olivet Church\, 613 Queens Avenue\, New Westminster\, BC\, V3M1L1\, Canada
CATEGORIES:Family Literacy,Physical Location Events
ATTACH;FMTTYPE=application/pdf:https://fsgv.ca/wp-content/uploads/2023/01/Creative-Explorations-4.pdf
END:VEVENT
BEGIN:VEVENT
DTSTART;TZID=America/Vancouver:20230201T103000
DTEND;TZID=America/Vancouver:20230201T120000
DTSTAMP:20260421T005928
CREATED:20230117T013356Z
LAST-MODIFIED:20230130T183608Z
UID:10000658-1675247400-1675252800@fsgv.ca
SUMMARY:Creative Explorations (Richmond)
DESCRIPTION:A program for parents and young children (ages 0-6) to explore creativity through arts and crafts\, songs and stories. Parent participation required. \nTo register\, contact richceds@fsgv.ca or 604-279-7100. 
URL:https://fsgv.ca/event/creative-explorations-5/2023-02-01/
LOCATION:Richmond Caring Place\, 340-7000 Minoru Blvd\, Richmond\, BC\, V6Y 3Z5\, Canada
CATEGORIES:Family Literacy,Physical Location Events
ATTACH;FMTTYPE=application/pdf:https://fsgv.ca/wp-content/uploads/2023/01/Creative-Explorations-3.pdf
END:VEVENT
END:VCALENDAR