BEGIN:VCALENDAR
VERSION:2.0
PRODID:-//Family Services of Greater Vancouver - ECPv6.15.20//NONSGML v1.0//EN
CALSCALE:GREGORIAN
METHOD:PUBLISH
X-WR-CALNAME:Family Services of Greater Vancouver
X-ORIGINAL-URL:https://fsgv.ca
X-WR-CALDESC:Events for Family Services of Greater Vancouver
REFRESH-INTERVAL;VALUE=DURATION:PT1H
X-Robots-Tag:noindex
X-PUBLISHED-TTL:PT1H
BEGIN:VTIMEZONE
TZID:America/Vancouver
BEGIN:DAYLIGHT
TZOFFSETFROM:-0800
TZOFFSETTO:-0700
TZNAME:PDT
DTSTART:20240310T100000
END:DAYLIGHT
BEGIN:STANDARD
TZOFFSETFROM:-0700
TZOFFSETTO:-0800
TZNAME:PST
DTSTART:20241103T090000
END:STANDARD
BEGIN:DAYLIGHT
TZOFFSETFROM:-0800
TZOFFSETTO:-0700
TZNAME:PDT
DTSTART:20250309T100000
END:DAYLIGHT
BEGIN:STANDARD
TZOFFSETFROM:-0700
TZOFFSETTO:-0800
TZNAME:PST
DTSTART:20251102T090000
END:STANDARD
BEGIN:DAYLIGHT
TZOFFSETFROM:-0800
TZOFFSETTO:-0700
TZNAME:PDT
DTSTART:20260308T100000
END:DAYLIGHT
BEGIN:STANDARD
TZOFFSETFROM:-0700
TZOFFSETTO:-0800
TZNAME:PST
DTSTART:20261101T090000
END:STANDARD
BEGIN:DAYLIGHT
TZOFFSETFROM:-0800
TZOFFSETTO:-0700
TZNAME:PDT
DTSTART:20270314T100000
END:DAYLIGHT
BEGIN:STANDARD
TZOFFSETFROM:-0700
TZOFFSETTO:-0800
TZNAME:PST
DTSTART:20271107T090000
END:STANDARD
END:VTIMEZONE
BEGIN:VEVENT
DTSTART;TZID=America/Vancouver:20251209T110000
DTEND;TZID=America/Vancouver:20251209T123000
DTSTAMP:20260422T030747
CREATED:20250819T215035Z
LAST-MODIFIED:20250819T215035Z
UID:10001038-1765278000-1765283400@fsgv.ca
SUMMARY:Will Preparation Basics
DESCRIPTION:Are you interested in learning more about will preparation? In this session\, we will cover the basics involved in preparing a will\, and ensuring your assets are distributed according to your wishes. This workshop outlines the basics of will preparation\, key elements to include\, and the benefits of having one. \nPresented in partnership with Vancouver Public Library. \n*This is an online event. You will need a computer\, tablet or phone to join the event on Zoom\, your camera and audio will automatically be turned off.\n*Registration required. Limited spots available.
URL:https://fsgv.ca/event/will-preparation-basics-dec-2025/
LOCATION:Zoom
CATEGORIES:Financial Empowerment,Virtual Events
ATTACH;FMTTYPE=image/jpeg:https://fsgv.ca/wp-content/uploads/2025/08/Will-Preparation-Basics-Financial-Empowerment-Dec-2025.jpg
ORGANIZER;CN="Vancouver Public Library":MAILTO:info@vpl.ca
END:VEVENT
BEGIN:VEVENT
DTSTART;TZID=America/Vancouver:20251210T133000
DTEND;TZID=America/Vancouver:20251210T150000
DTSTAMP:20260422T030747
CREATED:20251126T213902Z
LAST-MODIFIED:20251126T213902Z
UID:10001041-1765373400-1765378800@fsgv.ca
SUMMARY:Financial Tips for Seniors (55+): Budgeting in the New Year
DESCRIPTION:Financial Tips for Budgeting in the New Year \nFamily Services of Greater Vancouver and Brella Community Services Society have partnered to support you with your financial questions and help you prepare your 2026 budget! \nWhen you register\, you’ll have the option to submit a question in advance\, which we’ll address during the presentation \nRegister ONLINE\nbrellasociety.ca/online-events\nOR\nCall (604) 531-9400 Ext. 220\nEmail: isaiah.clemente@brellasociety.ca \nIn partnership with Brella Community Services Society
URL:https://fsgv.ca/event/financial-tips-for-seniors-55-budgeting-in-the-new-year/
LOCATION:Online
CATEGORIES:Financial Empowerment,Virtual Events
ATTACH;FMTTYPE=image/jpeg:https://fsgv.ca/wp-content/uploads/2025/11/Financial-Workshop-for-Seniors-Financial-Empowerment-Oct-2025.jpg
END:VEVENT
BEGIN:VEVENT
DTSTART;TZID=America/Vancouver:20260121T140000
DTEND;TZID=America/Vancouver:20260121T160000
DTSTAMP:20260422T030748
CREATED:20251222T175458Z
LAST-MODIFIED:20251222T175458Z
UID:10001042-1769004000-1769011200@fsgv.ca
SUMMARY:Saving & Investing: Accessible Financial Literacy Workshop
DESCRIPTION:Are you interested in choosing the best saving and investment strategy for your goals? \nJoin Joanna for an accessible workshop on RDSPs\, RRSPs\, RESPs\, TFSAs\, and FHSAs. \nThis workshop introduces participants to the options available for registered investment plans. Whether you want to ensure long-term financial security with a disability\, are saving for retirement\, or helping plan for someone else\, there is an investment strategy for you. Learn more about how to take control of your finances today\, for a more secure tomorrow. \nIn partnership with ConnecTra Society
URL:https://fsgv.ca/event/saving-investing-accessible-financial-literacy-workshop/
LOCATION:Online
CATEGORIES:Community Programs,Financial Empowerment,Virtual Events
ATTACH;FMTTYPE=image/jpeg:https://fsgv.ca/wp-content/uploads/2025/12/Saving-Investing-Workshop-FE-Jan-2026.jpg
END:VEVENT
BEGIN:VEVENT
DTSTART;TZID=America/Vancouver:20260130T100000
DTEND;TZID=America/Vancouver:20260130T150000
DTSTAMP:20260422T030748
CREATED:20260107T191818Z
LAST-MODIFIED:20260107T191818Z
UID:10001043-1769767200-1769785200@fsgv.ca
SUMMARY:Pop-up Tax Clinic - Vancouver
DESCRIPTION:This confidential service is part of the Community Volunteer Income Tax Program—a partnership between the Canada Revenue Agency and community organizations that provide free tax clinics to low-income people and families. Tax filing is free for simple tax filing. \nPlease bring your T4 slips and other forms and statements to help with filing. \nPlease note that we are unable to assist with and prepare tax filings for: \n– Business or Rental Income\n– Self-employment income over $1\,000\n– Interest or Capital Gains over $1\,000\n– Final Returns (for a deceased person) \nOn-site Service Canada \n– Canadian Dental Care Plan – Information and Application/Attestation\n– Old Age Security and Canada Pension Plan\n– Get a Social Insurance Number (birth certificate in most cases will be required)\n– Receive an access code for My Service Canada\n– General Government of Canada information \nIncome Assistance\n– Information on program\, qualification and application process. \nBook an Appointment \nIn partnership with: \n\n\n\n\n\n\n\n\n 
URL:https://fsgv.ca/event/pop-up-tax-clinic-vancouver-jan-2026/
LOCATION:FSGV – East Broadway\, #301-1638 Broadway E\, Vancouver\, British Columbia\, V5N 1W1\, Canada
CATEGORIES:Financial Empowerment,Physical Location Events
ATTACH;FMTTYPE=image/jpeg:https://fsgv.ca/wp-content/uploads/2025/10/Financial-Empowerment-Vancouver-Free-Tax-Clinic-Event-November-2025.jpg
END:VEVENT
BEGIN:VEVENT
DTSTART;TZID=America/Vancouver:20260311T100000
DTEND;TZID=America/Vancouver:20260311T150000
DTSTAMP:20260422T030748
CREATED:20260127T180600Z
LAST-MODIFIED:20260127T180600Z
UID:10001044-1773223200-1773241200@fsgv.ca
SUMMARY:Pop-up Tax Clinic - New Westminster
DESCRIPTION:This confidential service is part of the Community Volunteer Income Tax Program—a partnership between the Canada Revenue Agency and community organizations that provide free tax clinics to low-income people and families. Tax filing is free for simple tax filing. \nPlease bring your T4 slips and other forms and statements to help with filing. \nPlease note that we are unable to assist with and prepare tax filings for: \n– Business or Rental Income\n– Self-employment income over $1\,000\n– Interest or Capital Gains over $1\,000\n– Final Returns (for a deceased person) \nOn-site Service Canada \n– Canadian Dental Care Plan – Information and Application/Attestation\n– Old Age Security and Canada Pension Plan\n– Get a Social Insurance Number (birth certificate in most cases will be required)\n– Receive an access code for My Service Canada\n– General Government of Canada information \nIncome Assistance\n– Information on program\, qualification and application process. \nBook an Appointment \nIn partnership with: \n\n\n\n\n \n\n\n\n\n\n\n 
URL:https://fsgv.ca/event/pop-up-tax-clinic-new-west-march/
LOCATION:NWPL\, 716 6th Ave\, New Westminster\, BC\, V3M 2B3\, Canada
CATEGORIES:Financial Empowerment,Physical Location Events
ATTACH;FMTTYPE=image/jpeg:https://fsgv.ca/wp-content/uploads/2025/10/Financial-Empowerment-Vancouver-Free-Tax-Clinic-Event-November-2025.jpg
END:VEVENT
BEGIN:VEVENT
DTSTART;TZID=America/Vancouver:20260321T123000
DTEND;TZID=America/Vancouver:20260321T170000
DTSTAMP:20260422T030748
CREATED:20260319T174533Z
LAST-MODIFIED:20260324T233458Z
UID:10001045-1774096200-1774112400@fsgv.ca
SUMMARY:Income Tax-Filing Support - Tax Clinic
DESCRIPTION:APPOINTMENT REQUIRED – please call 778 997 3623 to book your appointment. \nFamily Services of Greater Vancouver is partnering with Tenth Tax to support you this tax season every Saturday (except the Easter long Weekend)\, from March – April\, 2026 at our East Broadway office. \nTo help us prepare your return accurately\, bring all documents that apply to your tax situation. \nPlease bring all information slips available: \n\n\n\n• T3\n• T4\n• T4A\n• T4A(P)\n• T4(OAS)\n\n\n• T4E\n• T4RSP\n• T4RIFT4U\n• T5\n• T5007\n\n\n\n\nIf applicable\, please also bring: \n\n\n\n• Rent Info and addresses of residence\n• Medical/Dental expenses\n\n\n• Charitable or political donations\n• RRSP contributions\n\n\n• Child care expenses\n• Your last year’s Income Tax Return\n\n\n• Disability Tax Credit Certificate (T2201)\n• Your last year’s Notice of Assessment\n\n\n• Interest paid on student loans\n \n\n\n\n  \nAdditional information to bring: \n• Government-issued photo ID\n• Your SIN\, your spouse’s SIN\, and your dependants’ SINs (if they have any)\n• A list of your dependant’s names\, exact dates of birth\n• Details of your Spouse’s / dependant’s income\n• Date of arrival to Canada and status (if you are a Newcomer)\n• Other documents you think may relate to your income taxes \n*If filing as a couple\, both partners must attend. \nNote that we cannot serve the following types of Tax-filing: \n• Bankruptcies\n• Business/Rental Income or Expenses\n• Self-Employment\n• Capital Gains and Losses \nPlease call 604-876-2181 ext. 221 or email taxhelp@tenth.ca to book your appointment. \n\n\n\n\n\n\n\n\n\nNot in Vancouver? We also provide tax-filing and support applying for benefits in other regions around British Columbia! \nFind our Pop-up Tax Clinics on our event calendar or reach out to us at moneyskills@fsgv.ca or call 1 800 609 3202.
URL:https://fsgv.ca/event/income-tax-filing-support/2026-03-21/
LOCATION:FSGV – East Broadway\, #301-1638 Broadway E\, Vancouver\, British Columbia\, V5N 1W1\, Canada
CATEGORIES:Financial Empowerment
ATTACH;FMTTYPE=image/jpeg:https://fsgv.ca/wp-content/uploads/2026/03/Free-Tax-filing-Support-Financial-Empowerment-Oct-2025.jpg
END:VEVENT
BEGIN:VEVENT
DTSTART;TZID=America/Vancouver:20260328T123000
DTEND;TZID=America/Vancouver:20260328T170000
DTSTAMP:20260422T030748
CREATED:20260319T174533Z
LAST-MODIFIED:20260324T233458Z
UID:10001046-1774701000-1774717200@fsgv.ca
SUMMARY:Income Tax-Filing Support - Tax Clinic
DESCRIPTION:APPOINTMENT REQUIRED – please call 778 997 3623 to book your appointment. \nFamily Services of Greater Vancouver is partnering with Tenth Tax to support you this tax season every Saturday (except the Easter long Weekend)\, from March – April\, 2026 at our East Broadway office. \nTo help us prepare your return accurately\, bring all documents that apply to your tax situation. \nPlease bring all information slips available: \n\n\n\n• T3\n• T4\n• T4A\n• T4A(P)\n• T4(OAS)\n\n\n• T4E\n• T4RSP\n• T4RIFT4U\n• T5\n• T5007\n\n\n\n\nIf applicable\, please also bring: \n\n\n\n• Rent Info and addresses of residence\n• Medical/Dental expenses\n\n\n• Charitable or political donations\n• RRSP contributions\n\n\n• Child care expenses\n• Your last year’s Income Tax Return\n\n\n• Disability Tax Credit Certificate (T2201)\n• Your last year’s Notice of Assessment\n\n\n• Interest paid on student loans\n \n\n\n\n  \nAdditional information to bring: \n• Government-issued photo ID\n• Your SIN\, your spouse’s SIN\, and your dependants’ SINs (if they have any)\n• A list of your dependant’s names\, exact dates of birth\n• Details of your Spouse’s / dependant’s income\n• Date of arrival to Canada and status (if you are a Newcomer)\n• Other documents you think may relate to your income taxes \n*If filing as a couple\, both partners must attend. \nNote that we cannot serve the following types of Tax-filing: \n• Bankruptcies\n• Business/Rental Income or Expenses\n• Self-Employment\n• Capital Gains and Losses \nPlease call 604-876-2181 ext. 221 or email taxhelp@tenth.ca to book your appointment. \n\n\n\n\n\n\n\n\n\nNot in Vancouver? We also provide tax-filing and support applying for benefits in other regions around British Columbia! \nFind our Pop-up Tax Clinics on our event calendar or reach out to us at moneyskills@fsgv.ca or call 1 800 609 3202.
URL:https://fsgv.ca/event/income-tax-filing-support/2026-03-28/
LOCATION:FSGV – East Broadway\, #301-1638 Broadway E\, Vancouver\, British Columbia\, V5N 1W1\, Canada
CATEGORIES:Financial Empowerment
ATTACH;FMTTYPE=image/jpeg:https://fsgv.ca/wp-content/uploads/2026/03/Free-Tax-filing-Support-Financial-Empowerment-Oct-2025.jpg
END:VEVENT
BEGIN:VEVENT
DTSTART;TZID=America/Vancouver:20260411T123000
DTEND;TZID=America/Vancouver:20260411T170000
DTSTAMP:20260422T030748
CREATED:20260319T174533Z
LAST-MODIFIED:20260324T233458Z
UID:10001047-1775910600-1775926800@fsgv.ca
SUMMARY:Income Tax-Filing Support - Tax Clinic
DESCRIPTION:APPOINTMENT REQUIRED – please call 778 997 3623 to book your appointment. \nFamily Services of Greater Vancouver is partnering with Tenth Tax to support you this tax season every Saturday (except the Easter long Weekend)\, from March – April\, 2026 at our East Broadway office. \nTo help us prepare your return accurately\, bring all documents that apply to your tax situation. \nPlease bring all information slips available: \n\n\n\n• T3\n• T4\n• T4A\n• T4A(P)\n• T4(OAS)\n\n\n• T4E\n• T4RSP\n• T4RIFT4U\n• T5\n• T5007\n\n\n\n\nIf applicable\, please also bring: \n\n\n\n• Rent Info and addresses of residence\n• Medical/Dental expenses\n\n\n• Charitable or political donations\n• RRSP contributions\n\n\n• Child care expenses\n• Your last year’s Income Tax Return\n\n\n• Disability Tax Credit Certificate (T2201)\n• Your last year’s Notice of Assessment\n\n\n• Interest paid on student loans\n \n\n\n\n  \nAdditional information to bring: \n• Government-issued photo ID\n• Your SIN\, your spouse’s SIN\, and your dependants’ SINs (if they have any)\n• A list of your dependant’s names\, exact dates of birth\n• Details of your Spouse’s / dependant’s income\n• Date of arrival to Canada and status (if you are a Newcomer)\n• Other documents you think may relate to your income taxes \n*If filing as a couple\, both partners must attend. \nNote that we cannot serve the following types of Tax-filing: \n• Bankruptcies\n• Business/Rental Income or Expenses\n• Self-Employment\n• Capital Gains and Losses \nPlease call 604-876-2181 ext. 221 or email taxhelp@tenth.ca to book your appointment. \n\n\n\n\n\n\n\n\n\nNot in Vancouver? We also provide tax-filing and support applying for benefits in other regions around British Columbia! \nFind our Pop-up Tax Clinics on our event calendar or reach out to us at moneyskills@fsgv.ca or call 1 800 609 3202.
URL:https://fsgv.ca/event/income-tax-filing-support/2026-04-11/
LOCATION:FSGV – East Broadway\, #301-1638 Broadway E\, Vancouver\, British Columbia\, V5N 1W1\, Canada
CATEGORIES:Financial Empowerment
ATTACH;FMTTYPE=image/jpeg:https://fsgv.ca/wp-content/uploads/2026/03/Free-Tax-filing-Support-Financial-Empowerment-Oct-2025.jpg
END:VEVENT
BEGIN:VEVENT
DTSTART;TZID=America/Vancouver:20260418T123000
DTEND;TZID=America/Vancouver:20260418T170000
DTSTAMP:20260422T030748
CREATED:20260319T174533Z
LAST-MODIFIED:20260324T233458Z
UID:10001048-1776515400-1776531600@fsgv.ca
SUMMARY:Income Tax-Filing Support - Tax Clinic
DESCRIPTION:APPOINTMENT REQUIRED – please call 778 997 3623 to book your appointment. \nFamily Services of Greater Vancouver is partnering with Tenth Tax to support you this tax season every Saturday (except the Easter long Weekend)\, from March – April\, 2026 at our East Broadway office. \nTo help us prepare your return accurately\, bring all documents that apply to your tax situation. \nPlease bring all information slips available: \n\n\n\n• T3\n• T4\n• T4A\n• T4A(P)\n• T4(OAS)\n\n\n• T4E\n• T4RSP\n• T4RIFT4U\n• T5\n• T5007\n\n\n\n\nIf applicable\, please also bring: \n\n\n\n• Rent Info and addresses of residence\n• Medical/Dental expenses\n\n\n• Charitable or political donations\n• RRSP contributions\n\n\n• Child care expenses\n• Your last year’s Income Tax Return\n\n\n• Disability Tax Credit Certificate (T2201)\n• Your last year’s Notice of Assessment\n\n\n• Interest paid on student loans\n \n\n\n\n  \nAdditional information to bring: \n• Government-issued photo ID\n• Your SIN\, your spouse’s SIN\, and your dependants’ SINs (if they have any)\n• A list of your dependant’s names\, exact dates of birth\n• Details of your Spouse’s / dependant’s income\n• Date of arrival to Canada and status (if you are a Newcomer)\n• Other documents you think may relate to your income taxes \n*If filing as a couple\, both partners must attend. \nNote that we cannot serve the following types of Tax-filing: \n• Bankruptcies\n• Business/Rental Income or Expenses\n• Self-Employment\n• Capital Gains and Losses \nPlease call 604-876-2181 ext. 221 or email taxhelp@tenth.ca to book your appointment. \n\n\n\n\n\n\n\n\n\nNot in Vancouver? We also provide tax-filing and support applying for benefits in other regions around British Columbia! \nFind our Pop-up Tax Clinics on our event calendar or reach out to us at moneyskills@fsgv.ca or call 1 800 609 3202.
URL:https://fsgv.ca/event/income-tax-filing-support/2026-04-18/
LOCATION:FSGV – East Broadway\, #301-1638 Broadway E\, Vancouver\, British Columbia\, V5N 1W1\, Canada
CATEGORIES:Financial Empowerment
ATTACH;FMTTYPE=image/jpeg:https://fsgv.ca/wp-content/uploads/2026/03/Free-Tax-filing-Support-Financial-Empowerment-Oct-2025.jpg
END:VEVENT
BEGIN:VEVENT
DTSTART;TZID=America/Vancouver:20260425T123000
DTEND;TZID=America/Vancouver:20260425T170000
DTSTAMP:20260422T030748
CREATED:20260319T174533Z
LAST-MODIFIED:20260324T233458Z
UID:10001049-1777120200-1777136400@fsgv.ca
SUMMARY:Income Tax-Filing Support - Tax Clinic
DESCRIPTION:APPOINTMENT REQUIRED – please call 778 997 3623 to book your appointment. \nFamily Services of Greater Vancouver is partnering with Tenth Tax to support you this tax season every Saturday (except the Easter long Weekend)\, from March – April\, 2026 at our East Broadway office. \nTo help us prepare your return accurately\, bring all documents that apply to your tax situation. \nPlease bring all information slips available: \n\n\n\n• T3\n• T4\n• T4A\n• T4A(P)\n• T4(OAS)\n\n\n• T4E\n• T4RSP\n• T4RIFT4U\n• T5\n• T5007\n\n\n\n\nIf applicable\, please also bring: \n\n\n\n• Rent Info and addresses of residence\n• Medical/Dental expenses\n\n\n• Charitable or political donations\n• RRSP contributions\n\n\n• Child care expenses\n• Your last year’s Income Tax Return\n\n\n• Disability Tax Credit Certificate (T2201)\n• Your last year’s Notice of Assessment\n\n\n• Interest paid on student loans\n \n\n\n\n  \nAdditional information to bring: \n• Government-issued photo ID\n• Your SIN\, your spouse’s SIN\, and your dependants’ SINs (if they have any)\n• A list of your dependant’s names\, exact dates of birth\n• Details of your Spouse’s / dependant’s income\n• Date of arrival to Canada and status (if you are a Newcomer)\n• Other documents you think may relate to your income taxes \n*If filing as a couple\, both partners must attend. \nNote that we cannot serve the following types of Tax-filing: \n• Bankruptcies\n• Business/Rental Income or Expenses\n• Self-Employment\n• Capital Gains and Losses \nPlease call 604-876-2181 ext. 221 or email taxhelp@tenth.ca to book your appointment. \n\n\n\n\n\n\n\n\n\nNot in Vancouver? We also provide tax-filing and support applying for benefits in other regions around British Columbia! \nFind our Pop-up Tax Clinics on our event calendar or reach out to us at moneyskills@fsgv.ca or call 1 800 609 3202.
URL:https://fsgv.ca/event/income-tax-filing-support/2026-04-25/
LOCATION:FSGV – East Broadway\, #301-1638 Broadway E\, Vancouver\, British Columbia\, V5N 1W1\, Canada
CATEGORIES:Financial Empowerment
ATTACH;FMTTYPE=image/jpeg:https://fsgv.ca/wp-content/uploads/2026/03/Free-Tax-filing-Support-Financial-Empowerment-Oct-2025.jpg
END:VEVENT
END:VCALENDAR