BEGIN:VCALENDAR
VERSION:2.0
PRODID:-//Family Services of Greater Vancouver - ECPv6.15.20//NONSGML v1.0//EN
CALSCALE:GREGORIAN
METHOD:PUBLISH
X-WR-CALNAME:Family Services of Greater Vancouver
X-ORIGINAL-URL:https://fsgv.ca
X-WR-CALDESC:Events for Family Services of Greater Vancouver
REFRESH-INTERVAL;VALUE=DURATION:PT1H
X-Robots-Tag:noindex
X-PUBLISHED-TTL:PT1H
BEGIN:VTIMEZONE
TZID:America/Vancouver
BEGIN:DAYLIGHT
TZOFFSETFROM:-0800
TZOFFSETTO:-0700
TZNAME:PDT
DTSTART:20220313T100000
END:DAYLIGHT
BEGIN:STANDARD
TZOFFSETFROM:-0700
TZOFFSETTO:-0800
TZNAME:PST
DTSTART:20221106T090000
END:STANDARD
BEGIN:DAYLIGHT
TZOFFSETFROM:-0800
TZOFFSETTO:-0700
TZNAME:PDT
DTSTART:20230312T100000
END:DAYLIGHT
BEGIN:STANDARD
TZOFFSETFROM:-0700
TZOFFSETTO:-0800
TZNAME:PST
DTSTART:20231105T090000
END:STANDARD
BEGIN:DAYLIGHT
TZOFFSETFROM:-0800
TZOFFSETTO:-0700
TZNAME:PDT
DTSTART:20240310T100000
END:DAYLIGHT
BEGIN:STANDARD
TZOFFSETFROM:-0700
TZOFFSETTO:-0800
TZNAME:PST
DTSTART:20241103T090000
END:STANDARD
END:VTIMEZONE
BEGIN:VEVENT
DTSTART;TZID=America/Vancouver:20230403T123000
DTEND;TZID=America/Vancouver:20230403T143000
DTSTAMP:20260425T201943
CREATED:20230222T225451Z
LAST-MODIFIED:20230328T171105Z
UID:10000730-1680525000-1680532200@fsgv.ca
SUMMARY:Tax Basics
DESCRIPTION:Learn the basics of filing your taxes and accessing government benefits! \nTo Register\, email: welcome@sd40.bc.ca or call 604-517-6266
URL:https://fsgv.ca/event/tax-basics-2/
LOCATION:Welcome Centre – New Westminster Secondary School\, 820 6th St\, New Westminster\, BC\, V3L 3C8\, Canada
CATEGORIES:Financial Empowerment,Physical Location Events
ATTACH;FMTTYPE=application/pdf:https://fsgv.ca/wp-content/uploads/2023/02/Tax-Basics-2.pdf
END:VEVENT
BEGIN:VEVENT
DTSTART;TZID=America/Vancouver:20230403T100000
DTEND;TZID=America/Vancouver:20230403T120000
DTSTAMP:20260425T201943
CREATED:20230113T193035Z
LAST-MODIFIED:20230116T234753Z
UID:10000631-1680516000-1680523200@fsgv.ca
SUMMARY:Nobody's Perfect
DESCRIPTION:A free program for parents/grandparents and children (0-school age) to: \n\nMEET other parents of young children\nSHARE questions\, concerns and ideas about being a parent\nLEARN about child development\, safety\, health and behaviour\nDISCUSS real-life parenting situations\nDISCOVER positive ways of parenting\n\nTo register\, contact richceds@fsgv.ca or 604-279-7100. 
URL:https://fsgv.ca/event/nobodys-perfect-2023-04-03/2023-04-03/
LOCATION:Richmond Caring Place\, 340-7000 Minoru Blvd\, Richmond\, BC\, V6Y 3Z5\, Canada
CATEGORIES:Physical Location Events
ATTACH;FMTTYPE=application/pdf:https://fsgv.ca/wp-content/uploads/2023/01/Nobodys-Perfect.pdf
END:VEVENT
BEGIN:VEVENT
DTSTART;TZID=America/Vancouver:20230403T093000
DTEND;TZID=America/Vancouver:20230403T120000
DTSTAMP:20260425T201943
CREATED:20230113T201800Z
LAST-MODIFIED:20230331T213231Z
UID:10000644-1680514200-1680523200@fsgv.ca
SUMMARY:Creative Explorations (New Westminster)
DESCRIPTION:A program for parents and young children (ages 0-6) to explore creativity through arts and crafts\, songs and stories. Parent participation required. \n\nTo register\, contact ceds-nw@fsgv.ca or 604-368-2154.  \n\n\n 
URL:https://fsgv.ca/event/creative-explorations-3/2023-04-03/
LOCATION:Olivet Church\, 613 Queens Avenue\, New Westminster\, BC\, V3M1L1\, Canada
CATEGORIES:Family Literacy,Physical Location Events
ATTACH;FMTTYPE=application/pdf:https://fsgv.ca/wp-content/uploads/2023/01/Creative-Explorations-2.pdf
END:VEVENT
BEGIN:VEVENT
DTSTART;TZID=America/Vancouver:20230327T100000
DTEND;TZID=America/Vancouver:20230327T120000
DTSTAMP:20260425T201943
CREATED:20230113T193035Z
LAST-MODIFIED:20230116T225452Z
UID:10000630-1679911200-1679918400@fsgv.ca
SUMMARY:Nobody's Perfect
DESCRIPTION:A free program for parents/grandparents and children (0-school age) to: \n\nMEET other parents of young children\nSHARE questions\, concerns and ideas about being a parent\nLEARN about child development\, safety\, health and behaviour\nDISCUSS real-life parenting situations\nDISCOVER positive ways of parenting\n\nTo register\, contact richceds@fsgv.ca or 604-279-7100. 
URL:https://fsgv.ca/event/nobodys-perfect/
LOCATION:Richmond Caring Place\, 340-7000 Minoru Blvd\, Richmond\, BC\, V6Y 3Z5\, Canada
CATEGORIES:Physical Location Events
ATTACH;FMTTYPE=application/pdf:https://fsgv.ca/wp-content/uploads/2023/01/Nobodys-Perfect.pdf
END:VEVENT
BEGIN:VEVENT
DTSTART;TZID=America/Vancouver:20230325T100000
DTEND;TZID=America/Vancouver:20230325T120000
DTSTAMP:20260425T201943
CREATED:20230125T190609Z
LAST-MODIFIED:20230125T190609Z
UID:10000693-1679738400-1679745600@fsgv.ca
SUMMARY:Raising Exceptional Children
DESCRIPTION:Group for parents of children with support needs. Relax while connecting with other parents\, sharing the challenges of parenting exceptional children\, and learning about community resources. Know that you’re not alone! Bus tickets and coffee available Come with your children—care is available upon registration
URL:https://fsgv.ca/event/raising-exceptional-children-2/2023-03-25/
LOCATION:Online
CATEGORIES:Community Programs,Virtual Events
ATTACH;FMTTYPE=image/jpeg:https://fsgv.ca/wp-content/uploads/2023/01/Raising-Exceptional-Children.jpg
END:VEVENT
BEGIN:VEVENT
DTSTART;TZID=America/Vancouver:20230322T123000
DTEND;TZID=America/Vancouver:20230322T150000
DTSTAMP:20260425T201943
CREATED:20230127T194519Z
LAST-MODIFIED:20230127T194519Z
UID:10000703-1679488200-1679497200@fsgv.ca
SUMMARY:Multicultural Community Kitchen
DESCRIPTION:For newcomers\, parents of young children\, seniors\, and individuals looking to improve their cooking skills. Enjoy good company while learning about low-cost\, nutritious meal preparation.   
URL:https://fsgv.ca/event/multicultural-community-kitchen-2/2023-03-22/
LOCATION:Richmond Caring Place\, 340-7000 Minoru Blvd\, Richmond\, BC\, V6Y 3Z5\, Canada
CATEGORIES:Community Kitchens,Physical Location Events
ATTACH;FMTTYPE=image/jpeg:https://fsgv.ca/wp-content/uploads/2023/01/Multicultural-Community-Kitchens.jpg
END:VEVENT
BEGIN:VEVENT
DTSTART;TZID=America/Vancouver:20230322T100000
DTEND;TZID=America/Vancouver:20230322T120000
DTSTAMP:20260425T201943
CREATED:20230118T222949Z
LAST-MODIFIED:20230118T222949Z
UID:10000516-1679479200-1679486400@fsgv.ca
SUMMARY:Nobody's Perfect (New Westminster)
DESCRIPTION:In partnership with the Lower Mainland Purpose Society\, Nobody’s Perfect is a free program for parents/grandparents and children (0-school age) to: \n\nMEET other parents of young children\nSHARE questions\, concerns and ideas about being a parent\nLEARN about child development\, safety\, health and behaviour\nDISCUSS real-life parenting situations\nDISCOVER positive ways of parenting\n\nTo register\, contact ceds-nw@fsgv.ca or 604-368-2154.
URL:https://fsgv.ca/event/nobody-is-perfect-nw/2023-03-22/
LOCATION:FSGV – New West\, 601 6th Street\, New Westminster\, British Columbia\, V3L 3C1\, Canada
CATEGORIES:Parent Education and Support Groups,Physical Location Events
ATTACH;FMTTYPE=application/pdf:https://fsgv.ca/wp-content/uploads/2023/01/Nobodys-Perfect-2.pdf
END:VEVENT
BEGIN:VEVENT
DTSTART;TZID=America/Vancouver:20230317T093000
DTEND;TZID=America/Vancouver:20230317T123000
DTSTAMP:20260425T201943
CREATED:20230117T210607Z
LAST-MODIFIED:20230130T185720Z
UID:10000498-1679045400-1679056200@fsgv.ca
SUMMARY:English Conversations and Cooking Classes
DESCRIPTION:A program for families and their children. Practice your English. Learn to cook low-cost\, healthy nutritious food and learn about community resources. Free childminding provided.
URL:https://fsgv.ca/event/english-conversations-and-cooking/2023-03-17/
LOCATION:City Centre Community Centre\, 5900 Minoru Blvd\, Richmond\, British Columbia\, V6X 0L9\, Canada
CATEGORIES:Community Kitchens,Physical Location Events
ATTACH;FMTTYPE=image/jpeg:https://fsgv.ca/wp-content/uploads/2023/01/English-Conversations-and-Cooking-Classes.jpg
END:VEVENT
BEGIN:VEVENT
DTSTART;TZID=America/Vancouver:20230315T123000
DTEND;TZID=America/Vancouver:20230315T150000
DTSTAMP:20260425T201943
CREATED:20230127T194519Z
LAST-MODIFIED:20230127T194519Z
UID:10000702-1678883400-1678892400@fsgv.ca
SUMMARY:Multicultural Community Kitchen
DESCRIPTION:For newcomers\, parents of young children\, seniors\, and individuals looking to improve their cooking skills. Enjoy good company while learning about low-cost\, nutritious meal preparation.   
URL:https://fsgv.ca/event/multicultural-community-kitchen-2/2023-03-15/
LOCATION:Richmond Caring Place\, 340-7000 Minoru Blvd\, Richmond\, BC\, V6Y 3Z5\, Canada
CATEGORIES:Community Kitchens,Physical Location Events
ATTACH;FMTTYPE=image/jpeg:https://fsgv.ca/wp-content/uploads/2023/01/Multicultural-Community-Kitchens.jpg
END:VEVENT
BEGIN:VEVENT
DTSTART;TZID=America/Vancouver:20230315T100000
DTEND;TZID=America/Vancouver:20230315T120000
DTSTAMP:20260425T201943
CREATED:20230118T222949Z
LAST-MODIFIED:20230118T222949Z
UID:10000515-1678874400-1678881600@fsgv.ca
SUMMARY:Nobody's Perfect (New Westminster)
DESCRIPTION:In partnership with the Lower Mainland Purpose Society\, Nobody’s Perfect is a free program for parents/grandparents and children (0-school age) to: \n\nMEET other parents of young children\nSHARE questions\, concerns and ideas about being a parent\nLEARN about child development\, safety\, health and behaviour\nDISCUSS real-life parenting situations\nDISCOVER positive ways of parenting\n\nTo register\, contact ceds-nw@fsgv.ca or 604-368-2154.
URL:https://fsgv.ca/event/nobody-is-perfect-nw/2023-03-15/
LOCATION:FSGV – New West\, 601 6th Street\, New Westminster\, British Columbia\, V3L 3C1\, Canada
CATEGORIES:Parent Education and Support Groups,Physical Location Events
ATTACH;FMTTYPE=application/pdf:https://fsgv.ca/wp-content/uploads/2023/01/Nobodys-Perfect-2.pdf
END:VEVENT
BEGIN:VEVENT
DTSTART;TZID=America/Vancouver:20230314T130000
DTEND;TZID=America/Vancouver:20230314T143000
DTSTAMP:20260425T201943
CREATED:20230216T010103Z
LAST-MODIFIED:20230216T010103Z
UID:10000729-1678798800-1678804200@fsgv.ca
SUMMARY:Frauds and Scams
DESCRIPTION:This workshop introduces ways you can protect yourself from phishing scams\, identity theft\, and banking scams as well as what to do if you have been scammed.
URL:https://fsgv.ca/event/frauds-and-scams/
LOCATION:Online
CATEGORIES:Financial Empowerment,Virtual Events
ATTACH;FMTTYPE=image/jpeg:https://fsgv.ca/wp-content/uploads/2023/02/tim-gouw-1K9T5YiZ2WU-unsplash.jpg
END:VEVENT
BEGIN:VEVENT
DTSTART;TZID=America/Vancouver:20230313T100000
DTEND;TZID=America/Vancouver:20230313T120000
DTSTAMP:20260425T201943
CREATED:20230117T190222Z
LAST-MODIFIED:20230130T184155Z
UID:10000668-1678701600-1678708800@fsgv.ca
SUMMARY:Nobody's Perfect (Richmond)
DESCRIPTION:A free program for parents/grandparents and children (0-school age) to: \n\nMEET other parents of young children\nSHARE questions\, concerns and ideas about being a parent\nLEARN about child development\, safety\, health and behaviour\nDISCUSS real-life parenting situations\nDISCOVER positive ways of parenting\n\nTo register\, contact richceds@fsgv.ca or 604-279-7100. 
URL:https://fsgv.ca/event/nobodys-perfect-2/2023-03-13/
LOCATION:Richmond Caring Place\, 340-7000 Minoru Blvd\, Richmond\, BC\, V6Y 3Z5\, Canada
CATEGORIES:Parent Education and Support Groups,Physical Location Events
ATTACH;FMTTYPE=application/pdf:https://fsgv.ca/wp-content/uploads/2023/01/Nobodys-Perfect-1.pdf
END:VEVENT
BEGIN:VEVENT
DTSTART;TZID=America/Vancouver:20230310T120000
DTEND;TZID=America/Vancouver:20230310T130000
DTSTAMP:20260425T201943
CREATED:20230216T004746Z
LAST-MODIFIED:20230216T004746Z
UID:10000727-1678449600-1678453200@fsgv.ca
SUMMARY:Tax Basics
DESCRIPTION:Are you struggling with tax filing? \nDoing taxes isn’t most people’s idea of fun\, but to access many government benefits\, you need to have filed your taxes.  No matter what challenges you face with filing\, we can help.
URL:https://fsgv.ca/event/tax-basics/2023-03-10/
LOCATION:Online
CATEGORIES:Financial Empowerment,Virtual Events
ATTACH;FMTTYPE=application/pdf:https://fsgv.ca/wp-content/uploads/2023/02/Tax-Basics-1.pdf
END:VEVENT
BEGIN:VEVENT
DTSTART;TZID=America/Vancouver:20230310T100000
DTEND;TZID=America/Vancouver:20230310T120000
DTSTAMP:20260425T201943
CREATED:20230127T200656Z
LAST-MODIFIED:20230130T180935Z
UID:10000710-1678442400-1678449600@fsgv.ca
SUMMARY:Healthy Eating for Seniors
DESCRIPTION:Enjoy a hands-on cooking experience with other seniors while preparing delicious and nutritious food to take home. 
URL:https://fsgv.ca/event/healthy-eating-for-seniors-2/2023-03-10/
LOCATION:Steveston Community Centre\, 4111 Moncton Street\, Richmond\, British Columbia\, V7E 3A8
CATEGORIES:Community Kitchens
ATTACH;FMTTYPE=image/jpeg:https://fsgv.ca/wp-content/uploads/2023/01/Healthy-Eating-for-Seniors-e1674849789745.jpg
END:VEVENT
BEGIN:VEVENT
DTSTART;TZID=America/Vancouver:20230310T100000
DTEND;TZID=America/Vancouver:20230310T113000
DTSTAMP:20260425T201943
CREATED:20230201T182608Z
LAST-MODIFIED:20230201T182608Z
UID:10000724-1678442400-1678447800@fsgv.ca
SUMMARY:Chimo Community Kitchens
DESCRIPTION:A Community Kitchen program for people to learn healthy\, nutritious recipes under a low budget while making meaningful social connections. 
URL:https://fsgv.ca/event/chimo-community-kitchens/2023-03-10/
LOCATION:5751 Cedarbridge Way\, 111 – 5751 Cedarbridge Way\, Richmond\, British Columbia\, V6X 2A8\, Canada
CATEGORIES:Community Kitchens,Physical Location Events
ATTACH;FMTTYPE=image/jpeg:https://fsgv.ca/wp-content/uploads/2023/01/Cooking-in-kitchen-stock.jpg
END:VEVENT
BEGIN:VEVENT
DTSTART;TZID=America/Vancouver:20230310T093000
DTEND;TZID=America/Vancouver:20230310T123000
DTSTAMP:20260425T201943
CREATED:20230117T210607Z
LAST-MODIFIED:20230130T185720Z
UID:10000497-1678440600-1678451400@fsgv.ca
SUMMARY:English Conversations and Cooking Classes
DESCRIPTION:A program for families and their children. Practice your English. Learn to cook low-cost\, healthy nutritious food and learn about community resources. Free childminding provided.
URL:https://fsgv.ca/event/english-conversations-and-cooking/2023-03-10/
LOCATION:City Centre Community Centre\, 5900 Minoru Blvd\, Richmond\, British Columbia\, V6X 0L9\, Canada
CATEGORIES:Community Kitchens,Physical Location Events
ATTACH;FMTTYPE=image/jpeg:https://fsgv.ca/wp-content/uploads/2023/01/English-Conversations-and-Cooking-Classes.jpg
END:VEVENT
BEGIN:VEVENT
DTSTART;TZID=America/Vancouver:20230310T093000
DTEND;TZID=America/Vancouver:20230310T120000
DTSTAMP:20260425T201943
CREATED:20230118T231932Z
LAST-MODIFIED:20230130T164023Z
UID:10000522-1678440600-1678449600@fsgv.ca
SUMMARY:Parents Connect
DESCRIPTION:Guided discussion groups for parents with children 6 years and under. \nFamilies new to Canada are matched with mentor families who have lived in Canada for a long time. Mentor families offer support and knowledge about Canadian culture\, raising children in Canada\, and tips on local programs in communities. Both sides have an opportunity to increase parenting skills. Programs offered for children 1 year and up\, while younger children stay with their parent in the adult program room. Bus tickets and snacks available.
URL:https://fsgv.ca/event/parents-connect-2-2023-02-08/2023-03-10/
LOCATION:Olivet Church\, 613 Queens Avenue\, New Westminster\, BC\, V3M1L1\, Canada
CATEGORIES:Parent Education and Support Groups,Physical Location Events
ATTACH;FMTTYPE=application/pdf:https://fsgv.ca/wp-content/uploads/2023/01/Parents-Connect.pdf
END:VEVENT
BEGIN:VEVENT
DTSTART;TZID=America/Vancouver:20230309T103000
DTEND;TZID=America/Vancouver:20230309T120000
DTSTAMP:20260425T201943
CREATED:20230117T195822Z
LAST-MODIFIED:20230130T183723Z
UID:10000680-1678357800-1678363200@fsgv.ca
SUMMARY:Richmond Family Friends
DESCRIPTION:A program intended for newcomer families with young children. \nRFF matches newcomer families with volunteer families already living in Richmond. Volunteers support their mentee family as they adapt to their new life in Canada. \nNewcomers can connect with people in the community\, explore Richmond together\, and participate in conversation circles\, parenting workshops\, cooking groups and more. \nTo register\, contact richceds@fsgv.ca or 604-279-7100.
URL:https://fsgv.ca/event/richmond-family-friends/2023-03-09/
LOCATION:Richmond Caring Place\, 340-7000 Minoru Blvd\, Richmond\, BC\, V6Y 3Z5\, Canada
CATEGORIES:Parent Education and Support Groups,Physical Location Events
ATTACH;FMTTYPE=application/pdf:https://fsgv.ca/wp-content/uploads/2023/01/Richmond-Family-Friends.pdf
END:VEVENT
BEGIN:VEVENT
DTSTART;TZID=America/Vancouver:20230308T180000
DTEND;TZID=America/Vancouver:20230308T193000
DTSTAMP:20260425T201943
CREATED:20230125T211416Z
LAST-MODIFIED:20230216T003855Z
UID:10000695-1678298400-1678303800@fsgv.ca
SUMMARY:Tax Basics (NWPL)
DESCRIPTION:The 2023 tax season is just around the corner. \nAre you struggling with tax filing? Doing taxes isn’t most people’s idea of fun\, but to access many government benefits\, you need to have filed your taxes.  No matter what challenges you face with filing\, we can help. \nPresented by Family Services of Greater Vancouver in partnership with NWPL. For more information about FSGV Financial Empowerment\, visit them online.   \nRegistration required: To register\, email AskUs@nwpl.ca or call 604-527-4666.
URL:https://fsgv.ca/event/tax-basics-with-fsgv/2023-03-08/
LOCATION:Online
CATEGORIES:Community Programs,Virtual Events
ATTACH;FMTTYPE=application/pdf:https://fsgv.ca/wp-content/uploads/2023/01/Tax-Basics.pdf
END:VEVENT
BEGIN:VEVENT
DTSTART;TZID=America/Vancouver:20230308T163000
DTEND;TZID=America/Vancouver:20230308T183000
DTSTAMP:20260425T201943
CREATED:20230120T185752Z
LAST-MODIFIED:20230130T171846Z
UID:10000527-1678293000-1678300200@fsgv.ca
SUMMARY:Single Parents
DESCRIPTION:A program for single parents raising young children on their own.  \nThe program offers a support group to help single parents with children 0-5 years old living in New Westminster connect with other parents\, share the joys and challenges of solo parenting\, and learn about community resources. Bus tickets and free child minding are available.
URL:https://fsgv.ca/event/single-parents/2023-03-08/
LOCATION:Olivet Church\, 613 Queens Avenue\, New Westminster\, BC\, V3M1L1\, Canada
CATEGORIES:Parent Education and Support Groups,Physical Location Events
ATTACH;FMTTYPE=application/pdf:https://fsgv.ca/wp-content/uploads/2023/01/Single-Parents.pdf
END:VEVENT
BEGIN:VEVENT
DTSTART;TZID=America/Vancouver:20230308T123000
DTEND;TZID=America/Vancouver:20230308T150000
DTSTAMP:20260425T201943
CREATED:20230127T194519Z
LAST-MODIFIED:20230127T194519Z
UID:10000701-1678278600-1678287600@fsgv.ca
SUMMARY:Multicultural Community Kitchen
DESCRIPTION:For newcomers\, parents of young children\, seniors\, and individuals looking to improve their cooking skills. Enjoy good company while learning about low-cost\, nutritious meal preparation.   
URL:https://fsgv.ca/event/multicultural-community-kitchen-2/2023-03-08/
LOCATION:Richmond Caring Place\, 340-7000 Minoru Blvd\, Richmond\, BC\, V6Y 3Z5\, Canada
CATEGORIES:Community Kitchens,Physical Location Events
ATTACH;FMTTYPE=image/jpeg:https://fsgv.ca/wp-content/uploads/2023/01/Multicultural-Community-Kitchens.jpg
END:VEVENT
BEGIN:VEVENT
DTSTART;TZID=America/Vancouver:20230308T100000
DTEND;TZID=America/Vancouver:20230308T120000
DTSTAMP:20260425T201943
CREATED:20230118T222949Z
LAST-MODIFIED:20230118T222949Z
UID:10000514-1678269600-1678276800@fsgv.ca
SUMMARY:Nobody's Perfect (New Westminster)
DESCRIPTION:In partnership with the Lower Mainland Purpose Society\, Nobody’s Perfect is a free program for parents/grandparents and children (0-school age) to: \n\nMEET other parents of young children\nSHARE questions\, concerns and ideas about being a parent\nLEARN about child development\, safety\, health and behaviour\nDISCUSS real-life parenting situations\nDISCOVER positive ways of parenting\n\nTo register\, contact ceds-nw@fsgv.ca or 604-368-2154.
URL:https://fsgv.ca/event/nobody-is-perfect-nw/2023-03-08/
LOCATION:FSGV – New West\, 601 6th Street\, New Westminster\, British Columbia\, V3L 3C1\, Canada
CATEGORIES:Parent Education and Support Groups,Physical Location Events
ATTACH;FMTTYPE=application/pdf:https://fsgv.ca/wp-content/uploads/2023/01/Nobodys-Perfect-2.pdf
END:VEVENT
BEGIN:VEVENT
DTSTART;TZID=America/Vancouver:20230307T150000
DTEND;TZID=America/Vancouver:20230307T170000
DTSTAMP:20260425T201943
CREATED:20230120T192933Z
LAST-MODIFIED:20230125T205343Z
UID:10000539-1678201200-1678208400@fsgv.ca
SUMMARY:Supercooks! (Lord Kelvin)
DESCRIPTION:This is a free afterschool program open to SD40 students around grades 5-6 and requires no previous kitchen skills or aptitude. \nTeachers can refer students they think would most benefit from participating in the program\, and who would blossom with an activity based on skill-building\, peer-interaction\, and the opportunity to engage with trusted adults from the community.  By providing these children with an opportunity to build real-life skills\, the children may discover an aptitude for cooking that could turn into a career. The afterschool cooking program will also introduce the value of nutrition and healthy eating at early age. \nFor information on the Supercooks! program and how to register\, please contact our Manager of Community Projects and Partnerships: \nRick Bloudell\n604.517.6291\nEmail
URL:https://fsgv.ca/event/supercooks-lord-kelvin/2023-03-07/
LOCATION:Lord Kelvin Community School\, 1010 Hamilton St\, New Westminster\, British Columbia\, V3M 2M9\, Canada
CATEGORIES:Community Kitchens,Physical Location Events
ATTACH;FMTTYPE=image/png:https://fsgv.ca/wp-content/uploads/2023/01/Supercooks.png
END:VEVENT
BEGIN:VEVENT
DTSTART;TZID=America/Vancouver:20230307T100000
DTEND;TZID=America/Vancouver:20230307T120000
DTSTAMP:20260425T201943
CREATED:20230201T173857Z
LAST-MODIFIED:20230201T173857Z
UID:10000718-1678183200-1678190400@fsgv.ca
SUMMARY:Virtual Community Kitchens for Families
DESCRIPTION:Community Kitchens bring together all members of the community to connect and cook together. Participants learn food skills and how to cook healthy recipes\, but\, most importantly\, they develop valuable interpersonal relationships that build healthy\, resilient families and communities – A program for parents\, children\, caregivers to create simple\, affordable\, healthy family meals. Fresh ingredients along with recipes will be provided to participants every week- along with lessons and demo videos on YouTube. Priority is given to low income families.  \nFor parents with children (0-12). 
URL:https://fsgv.ca/event/virtual-community-kitchens-for-families/2023-03-07/
LOCATION:Online
CATEGORIES:Community Programs,Virtual Events
ATTACH;FMTTYPE=image/jpeg:https://fsgv.ca/wp-content/uploads/2023/01/Virtual-CK.jpg
END:VEVENT
BEGIN:VEVENT
DTSTART;TZID=America/Vancouver:20230306T150000
DTEND;TZID=America/Vancouver:20230306T170000
DTSTAMP:20260425T201943
CREATED:20230120T192214Z
LAST-MODIFIED:20230125T205242Z
UID:10000533-1678114800-1678122000@fsgv.ca
SUMMARY:Supercooks! (Qayqayt Elementary)
DESCRIPTION:This is a free afterschool program open to SD40 students around grades 5-6 and requires no previous kitchen skills or aptitude. \nTeachers can refer students they think would most benefit from participating in the program\, and who would blossom with an activity based on skill-building\, peer-interaction\, and the opportunity to engage with trusted adults from the community.  By providing these children with an opportunity to build real-life skills\, the children may discover an aptitude for cooking that could turn into a career. The afterschool cooking program will also introduce the value of nutrition and healthy eating at early age. \nFor information on the Supercooks! program and how to register\, please contact our Manager of Community Projects and Partnerships: \nRick Bloudell\n604.517.6291\nEmail
URL:https://fsgv.ca/event/supercooks-qayqayt/2023-03-06/
LOCATION:École Qayqayt Elementary\, 85 Merivale Street\, New Westminster\, BC\, V3L0G2\, Canada
CATEGORIES:Community Kitchens,Physical Location Events
ATTACH;FMTTYPE=image/png:https://fsgv.ca/wp-content/uploads/2023/01/Supercooks.png
END:VEVENT
BEGIN:VEVENT
DTSTART;TZID=America/Vancouver:20230306T100000
DTEND;TZID=America/Vancouver:20230306T120000
DTSTAMP:20260425T201943
CREATED:20230117T190222Z
LAST-MODIFIED:20230130T184155Z
UID:10000667-1678096800-1678104000@fsgv.ca
SUMMARY:Nobody's Perfect (Richmond)
DESCRIPTION:A free program for parents/grandparents and children (0-school age) to: \n\nMEET other parents of young children\nSHARE questions\, concerns and ideas about being a parent\nLEARN about child development\, safety\, health and behaviour\nDISCUSS real-life parenting situations\nDISCOVER positive ways of parenting\n\nTo register\, contact richceds@fsgv.ca or 604-279-7100. 
URL:https://fsgv.ca/event/nobodys-perfect-2/2023-03-06/
LOCATION:Richmond Caring Place\, 340-7000 Minoru Blvd\, Richmond\, BC\, V6Y 3Z5\, Canada
CATEGORIES:Parent Education and Support Groups,Physical Location Events
ATTACH;FMTTYPE=application/pdf:https://fsgv.ca/wp-content/uploads/2023/01/Nobodys-Perfect-1.pdf
END:VEVENT
BEGIN:VEVENT
DTSTART;TZID=America/Vancouver:20230306T093000
DTEND;TZID=America/Vancouver:20230306T120000
DTSTAMP:20260425T201943
CREATED:20230117T193003Z
LAST-MODIFIED:20230117T193003Z
UID:10000672-1678095000-1678104000@fsgv.ca
SUMMARY:Creative Explorations (New Westminster)
DESCRIPTION:A program for parents and young children (ages 0-6) to explore creativity through arts and crafts\, songs and stories. Parent participation required. \nTo register\, contact richceds@fsgv.ca or 604-279-7100. 
URL:https://fsgv.ca/event/creative-explorations-6/2023-03-06/
LOCATION:Olivet Church\, 613 Queens Avenue\, New Westminster\, BC\, V3M1L1\, Canada
CATEGORIES:Family Literacy,Physical Location Events
ATTACH;FMTTYPE=application/pdf:https://fsgv.ca/wp-content/uploads/2023/01/Creative-Explorations-4.pdf
END:VEVENT
BEGIN:VEVENT
DTSTART;TZID=America/Vancouver:20230303T093000
DTEND;TZID=America/Vancouver:20230303T123000
DTSTAMP:20260425T201943
CREATED:20230117T210607Z
LAST-MODIFIED:20230130T185720Z
UID:10000496-1677835800-1677846600@fsgv.ca
SUMMARY:English Conversations and Cooking Classes
DESCRIPTION:A program for families and their children. Practice your English. Learn to cook low-cost\, healthy nutritious food and learn about community resources. Free childminding provided.
URL:https://fsgv.ca/event/english-conversations-and-cooking/2023-03-03/
LOCATION:City Centre Community Centre\, 5900 Minoru Blvd\, Richmond\, British Columbia\, V6X 0L9\, Canada
CATEGORIES:Community Kitchens,Physical Location Events
ATTACH;FMTTYPE=image/jpeg:https://fsgv.ca/wp-content/uploads/2023/01/English-Conversations-and-Cooking-Classes.jpg
END:VEVENT
BEGIN:VEVENT
DTSTART;TZID=America/Vancouver:20230303T093000
DTEND;TZID=America/Vancouver:20230303T120000
DTSTAMP:20260425T201943
CREATED:20230118T231932Z
LAST-MODIFIED:20230130T164023Z
UID:10000521-1677835800-1677844800@fsgv.ca
SUMMARY:Parents Connect
DESCRIPTION:Guided discussion groups for parents with children 6 years and under. \nFamilies new to Canada are matched with mentor families who have lived in Canada for a long time. Mentor families offer support and knowledge about Canadian culture\, raising children in Canada\, and tips on local programs in communities. Both sides have an opportunity to increase parenting skills. Programs offered for children 1 year and up\, while younger children stay with their parent in the adult program room. Bus tickets and snacks available.
URL:https://fsgv.ca/event/parents-connect-2-2023-02-08/2023-03-03/
LOCATION:Olivet Church\, 613 Queens Avenue\, New Westminster\, BC\, V3M1L1\, Canada
CATEGORIES:Parent Education and Support Groups,Physical Location Events
ATTACH;FMTTYPE=application/pdf:https://fsgv.ca/wp-content/uploads/2023/01/Parents-Connect.pdf
END:VEVENT
BEGIN:VEVENT
DTSTART;TZID=America/Vancouver:20230302T170000
DTEND;TZID=America/Vancouver:20230302T180000
DTSTAMP:20260425T201943
CREATED:20230216T003827Z
LAST-MODIFIED:20230328T171022Z
UID:10000725-1677776400-1677780000@fsgv.ca
SUMMARY:Tax Basics (in Spanish)
DESCRIPTION:Presented in Spanish:  \nAre you struggling with tax filing? Doing taxes isn’t most people’s idea of fun\, but to access many government benefits\, you need to have filed your taxes.  No matter what challenges you face with filing\, we can help. \n 
URL:https://fsgv.ca/event/tax-basics-in-spanish/2023-03-02/
LOCATION:Teams
CATEGORIES:Financial Empowerment,Virtual Events
ATTACH;FMTTYPE=application/pdf:https://fsgv.ca/wp-content/uploads/2023/02/Tax-Basics.pdf
END:VEVENT
END:VCALENDAR