BEGIN:VCALENDAR
VERSION:2.0
PRODID:-//Family Services of Greater Vancouver - ECPv6.15.20//NONSGML v1.0//EN
CALSCALE:GREGORIAN
METHOD:PUBLISH
X-ORIGINAL-URL:https://fsgv.ca
X-WR-CALDESC:Events for Family Services of Greater Vancouver
REFRESH-INTERVAL;VALUE=DURATION:PT1H
X-Robots-Tag:noindex
X-PUBLISHED-TTL:PT1H
BEGIN:VTIMEZONE
TZID:America/Vancouver
BEGIN:DAYLIGHT
TZOFFSETFROM:-0800
TZOFFSETTO:-0700
TZNAME:PDT
DTSTART:20220313T100000
END:DAYLIGHT
BEGIN:STANDARD
TZOFFSETFROM:-0700
TZOFFSETTO:-0800
TZNAME:PST
DTSTART:20221106T090000
END:STANDARD
BEGIN:DAYLIGHT
TZOFFSETFROM:-0800
TZOFFSETTO:-0700
TZNAME:PDT
DTSTART:20230312T100000
END:DAYLIGHT
BEGIN:STANDARD
TZOFFSETFROM:-0700
TZOFFSETTO:-0800
TZNAME:PST
DTSTART:20231105T090000
END:STANDARD
BEGIN:DAYLIGHT
TZOFFSETFROM:-0800
TZOFFSETTO:-0700
TZNAME:PDT
DTSTART:20240310T100000
END:DAYLIGHT
BEGIN:STANDARD
TZOFFSETFROM:-0700
TZOFFSETTO:-0800
TZNAME:PST
DTSTART:20241103T090000
END:STANDARD
BEGIN:DAYLIGHT
TZOFFSETFROM:-0800
TZOFFSETTO:-0700
TZNAME:PDT
DTSTART:20250309T100000
END:DAYLIGHT
BEGIN:STANDARD
TZOFFSETFROM:-0700
TZOFFSETTO:-0800
TZNAME:PST
DTSTART:20251102T090000
END:STANDARD
BEGIN:DAYLIGHT
TZOFFSETFROM:-0800
TZOFFSETTO:-0700
TZNAME:PDT
DTSTART:20260308T100000
END:DAYLIGHT
BEGIN:STANDARD
TZOFFSETFROM:-0700
TZOFFSETTO:-0800
TZNAME:PST
DTSTART:20261101T090000
END:STANDARD
END:VTIMEZONE
BEGIN:VEVENT
DTSTART;TZID=America/Vancouver:20241003T100000
DTEND;TZID=America/Vancouver:20250214T120000
DTSTAMP:20260420T064611
CREATED:20240705T221904Z
LAST-MODIFIED:20240705T221904Z
UID:10000719-1727949600-1739534400@fsgv.ca
SUMMARY:ESL Cooking Class
DESCRIPTION:Welcome to Our Community Kitchen Programs!  \nAt our Community Kitchen\, we believe in the power of food to bring people together\, foster connections\, and create lasting memories. Our diverse programs cater to various groups\, ensuring that everyone has the opportunity to enjoy the joys of cooking\, regardless of their background or circumstances.  \nESL Cooking Classes: For those looking to improve their English language skills\, our ESL cooking classes offer a unique and engaging way to learn. Participants practice English while preparing simple and delicious recipes\, enhancing both their culinary and language abilities.  \nJoin us in one of our community kitchen programs and discover the joy of cooking\, the warmth of community\, and the flavors that bring us all together.  \n  \nLocation: City Center CC  \nTime: 10am – 12pm  \nChildcare is available  \n  \n2023 Dates: \nOct. 03\, 10\, 17\, 24\, 31  \nNov. 01\, 8\, 15\, 22\, 29 \nDec. 06  \n2025 Dates:  \nJan. 17\, 24\, 31 \nFeb. 07\, 14  \n  \nPlease contact Minoo and the Richmond office to register:  \nMinoo Javadi (she/her) \nCommunity Education and Development Services  \nCommunity Kitchen Supervisor  \nFamily Services of Greater Vancouver \nt: 604.279.7100 | c: 778-885-5165  \n 
URL:https://fsgv.ca/event/esl-cooking-class/
LOCATION:City Centre Community Centre\, 5900 Minoru Blvd\, Richmond\, British Columbia\, V6X 0L9\, Canada
CATEGORIES:Community Kitchens,Community Programs
ATTACH;FMTTYPE=image/png:https://fsgv.ca/wp-content/uploads/2024/07/Financial-Empowerment-OWorkshop-surviving-economic-difficulty-2-1.png
END:VEVENT
BEGIN:VEVENT
DTSTART;TZID=America/Vancouver:20230317T093000
DTEND;TZID=America/Vancouver:20230317T123000
DTSTAMP:20260420T064611
CREATED:20230117T210607Z
LAST-MODIFIED:20230130T185720Z
UID:10000498-1679045400-1679056200@fsgv.ca
SUMMARY:English Conversations and Cooking Classes
DESCRIPTION:A program for families and their children. Practice your English. Learn to cook low-cost\, healthy nutritious food and learn about community resources. Free childminding provided.
URL:https://fsgv.ca/event/english-conversations-and-cooking/2023-03-17/
LOCATION:City Centre Community Centre\, 5900 Minoru Blvd\, Richmond\, British Columbia\, V6X 0L9\, Canada
CATEGORIES:Community Kitchens,Physical Location Events
ATTACH;FMTTYPE=image/jpeg:https://fsgv.ca/wp-content/uploads/2023/01/English-Conversations-and-Cooking-Classes.jpg
END:VEVENT
BEGIN:VEVENT
DTSTART;TZID=America/Vancouver:20230310T093000
DTEND;TZID=America/Vancouver:20230310T123000
DTSTAMP:20260420T064611
CREATED:20230117T210607Z
LAST-MODIFIED:20230130T185720Z
UID:10000497-1678440600-1678451400@fsgv.ca
SUMMARY:English Conversations and Cooking Classes
DESCRIPTION:A program for families and their children. Practice your English. Learn to cook low-cost\, healthy nutritious food and learn about community resources. Free childminding provided.
URL:https://fsgv.ca/event/english-conversations-and-cooking/2023-03-10/
LOCATION:City Centre Community Centre\, 5900 Minoru Blvd\, Richmond\, British Columbia\, V6X 0L9\, Canada
CATEGORIES:Community Kitchens,Physical Location Events
ATTACH;FMTTYPE=image/jpeg:https://fsgv.ca/wp-content/uploads/2023/01/English-Conversations-and-Cooking-Classes.jpg
END:VEVENT
BEGIN:VEVENT
DTSTART;TZID=America/Vancouver:20230303T093000
DTEND;TZID=America/Vancouver:20230303T123000
DTSTAMP:20260420T064611
CREATED:20230117T210607Z
LAST-MODIFIED:20230130T185720Z
UID:10000496-1677835800-1677846600@fsgv.ca
SUMMARY:English Conversations and Cooking Classes
DESCRIPTION:A program for families and their children. Practice your English. Learn to cook low-cost\, healthy nutritious food and learn about community resources. Free childminding provided.
URL:https://fsgv.ca/event/english-conversations-and-cooking/2023-03-03/
LOCATION:City Centre Community Centre\, 5900 Minoru Blvd\, Richmond\, British Columbia\, V6X 0L9\, Canada
CATEGORIES:Community Kitchens,Physical Location Events
ATTACH;FMTTYPE=image/jpeg:https://fsgv.ca/wp-content/uploads/2023/01/English-Conversations-and-Cooking-Classes.jpg
END:VEVENT
BEGIN:VEVENT
DTSTART;TZID=America/Vancouver:20230224T093000
DTEND;TZID=America/Vancouver:20230224T123000
DTSTAMP:20260420T064611
CREATED:20230117T210607Z
LAST-MODIFIED:20230130T185720Z
UID:10000495-1677231000-1677241800@fsgv.ca
SUMMARY:English Conversations and Cooking Classes
DESCRIPTION:A program for families and their children. Practice your English. Learn to cook low-cost\, healthy nutritious food and learn about community resources. Free childminding provided.
URL:https://fsgv.ca/event/english-conversations-and-cooking/2023-02-24/
LOCATION:City Centre Community Centre\, 5900 Minoru Blvd\, Richmond\, British Columbia\, V6X 0L9\, Canada
CATEGORIES:Community Kitchens,Physical Location Events
ATTACH;FMTTYPE=image/jpeg:https://fsgv.ca/wp-content/uploads/2023/01/English-Conversations-and-Cooking-Classes.jpg
END:VEVENT
BEGIN:VEVENT
DTSTART;TZID=America/Vancouver:20230217T093000
DTEND;TZID=America/Vancouver:20230217T123000
DTSTAMP:20260420T064611
CREATED:20230117T210607Z
LAST-MODIFIED:20230130T185720Z
UID:10000494-1676626200-1676637000@fsgv.ca
SUMMARY:English Conversations and Cooking Classes
DESCRIPTION:A program for families and their children. Practice your English. Learn to cook low-cost\, healthy nutritious food and learn about community resources. Free childminding provided.
URL:https://fsgv.ca/event/english-conversations-and-cooking/2023-02-17/
LOCATION:City Centre Community Centre\, 5900 Minoru Blvd\, Richmond\, British Columbia\, V6X 0L9\, Canada
CATEGORIES:Community Kitchens,Physical Location Events
ATTACH;FMTTYPE=image/jpeg:https://fsgv.ca/wp-content/uploads/2023/01/English-Conversations-and-Cooking-Classes.jpg
END:VEVENT
BEGIN:VEVENT
DTSTART;TZID=America/Vancouver:20230210T093000
DTEND;TZID=America/Vancouver:20230210T123000
DTSTAMP:20260420T064611
CREATED:20230117T210607Z
LAST-MODIFIED:20230130T185720Z
UID:10000493-1676021400-1676032200@fsgv.ca
SUMMARY:English Conversations and Cooking Classes
DESCRIPTION:A program for families and their children. Practice your English. Learn to cook low-cost\, healthy nutritious food and learn about community resources. Free childminding provided.
URL:https://fsgv.ca/event/english-conversations-and-cooking/2023-02-10/
LOCATION:City Centre Community Centre\, 5900 Minoru Blvd\, Richmond\, British Columbia\, V6X 0L9\, Canada
CATEGORIES:Community Kitchens,Physical Location Events
ATTACH;FMTTYPE=image/jpeg:https://fsgv.ca/wp-content/uploads/2023/01/English-Conversations-and-Cooking-Classes.jpg
END:VEVENT
BEGIN:VEVENT
DTSTART;TZID=America/Vancouver:20230203T093000
DTEND;TZID=America/Vancouver:20230203T123000
DTSTAMP:20260420T064611
CREATED:20230117T210607Z
LAST-MODIFIED:20230130T185720Z
UID:10000492-1675416600-1675427400@fsgv.ca
SUMMARY:English Conversations and Cooking Classes
DESCRIPTION:A program for families and their children. Practice your English. Learn to cook low-cost\, healthy nutritious food and learn about community resources. Free childminding provided.
URL:https://fsgv.ca/event/english-conversations-and-cooking/2023-02-03/
LOCATION:City Centre Community Centre\, 5900 Minoru Blvd\, Richmond\, British Columbia\, V6X 0L9\, Canada
CATEGORIES:Community Kitchens,Physical Location Events
ATTACH;FMTTYPE=image/jpeg:https://fsgv.ca/wp-content/uploads/2023/01/English-Conversations-and-Cooking-Classes.jpg
END:VEVENT
BEGIN:VEVENT
DTSTART;TZID=America/Vancouver:20230127T093000
DTEND;TZID=America/Vancouver:20230127T123000
DTSTAMP:20260420T064611
CREATED:20230117T210607Z
LAST-MODIFIED:20230130T185720Z
UID:10000491-1674811800-1674822600@fsgv.ca
SUMMARY:English Conversations and Cooking Classes
DESCRIPTION:A program for families and their children. Practice your English. Learn to cook low-cost\, healthy nutritious food and learn about community resources. Free childminding provided.
URL:https://fsgv.ca/event/english-conversations-and-cooking/2023-01-27/
LOCATION:City Centre Community Centre\, 5900 Minoru Blvd\, Richmond\, British Columbia\, V6X 0L9\, Canada
CATEGORIES:Community Kitchens,Physical Location Events
ATTACH;FMTTYPE=image/jpeg:https://fsgv.ca/wp-content/uploads/2023/01/English-Conversations-and-Cooking-Classes.jpg
END:VEVENT
BEGIN:VEVENT
DTSTART;TZID=America/Vancouver:20230120T093000
DTEND;TZID=America/Vancouver:20230120T123000
DTSTAMP:20260420T064611
CREATED:20230117T210607Z
LAST-MODIFIED:20230130T185720Z
UID:10000490-1674207000-1674217800@fsgv.ca
SUMMARY:English Conversations and Cooking Classes
DESCRIPTION:A program for families and their children. Practice your English. Learn to cook low-cost\, healthy nutritious food and learn about community resources. Free childminding provided.
URL:https://fsgv.ca/event/english-conversations-and-cooking/2023-01-20/
LOCATION:City Centre Community Centre\, 5900 Minoru Blvd\, Richmond\, British Columbia\, V6X 0L9\, Canada
CATEGORIES:Community Kitchens,Physical Location Events
ATTACH;FMTTYPE=image/jpeg:https://fsgv.ca/wp-content/uploads/2023/01/English-Conversations-and-Cooking-Classes.jpg
END:VEVENT
END:VCALENDAR