BEGIN:VCALENDAR
VERSION:2.0
PRODID:-//Family Services of Greater Vancouver - ECPv6.15.20//NONSGML v1.0//EN
CALSCALE:GREGORIAN
METHOD:PUBLISH
X-WR-CALNAME:Family Services of Greater Vancouver
X-ORIGINAL-URL:https://fsgv.ca
X-WR-CALDESC:Events for Family Services of Greater Vancouver
REFRESH-INTERVAL;VALUE=DURATION:PT1H
X-Robots-Tag:noindex
X-PUBLISHED-TTL:PT1H
BEGIN:VTIMEZONE
TZID:America/Vancouver
BEGIN:DAYLIGHT
TZOFFSETFROM:-0800
TZOFFSETTO:-0700
TZNAME:PDT
DTSTART:20220313T100000
END:DAYLIGHT
BEGIN:STANDARD
TZOFFSETFROM:-0700
TZOFFSETTO:-0800
TZNAME:PST
DTSTART:20221106T090000
END:STANDARD
BEGIN:DAYLIGHT
TZOFFSETFROM:-0800
TZOFFSETTO:-0700
TZNAME:PDT
DTSTART:20230312T100000
END:DAYLIGHT
BEGIN:STANDARD
TZOFFSETFROM:-0700
TZOFFSETTO:-0800
TZNAME:PST
DTSTART:20231105T090000
END:STANDARD
BEGIN:DAYLIGHT
TZOFFSETFROM:-0800
TZOFFSETTO:-0700
TZNAME:PDT
DTSTART:20240310T100000
END:DAYLIGHT
BEGIN:STANDARD
TZOFFSETFROM:-0700
TZOFFSETTO:-0800
TZNAME:PST
DTSTART:20241103T090000
END:STANDARD
BEGIN:DAYLIGHT
TZOFFSETFROM:-0800
TZOFFSETTO:-0700
TZNAME:PDT
DTSTART:20250309T100000
END:DAYLIGHT
BEGIN:STANDARD
TZOFFSETFROM:-0700
TZOFFSETTO:-0800
TZNAME:PST
DTSTART:20251102T090000
END:STANDARD
BEGIN:DAYLIGHT
TZOFFSETFROM:-0800
TZOFFSETTO:-0700
TZNAME:PDT
DTSTART:20260308T100000
END:DAYLIGHT
BEGIN:STANDARD
TZOFFSETFROM:-0700
TZOFFSETTO:-0800
TZNAME:PST
DTSTART:20261101T090000
END:STANDARD
END:VTIMEZONE
BEGIN:VEVENT
DTSTART;TZID=America/Vancouver:20251001T103000
DTEND;TZID=America/Vancouver:20251001T113000
DTSTAMP:20260420T064432
CREATED:20250908T211452Z
LAST-MODIFIED:20250908T211452Z
UID:10001039-1759314600-1759318200@fsgv.ca
SUMMARY:Frauds & Scams Workshop for Seniors
DESCRIPTION:This workshop teaches seniors (55+ years old) how to recognize the common scams\, such as phishing and identity theft and provides practical steps to protect yourself. \nLearning Outcome \n\nIdentify common fraud tactics.\nLearn how to protect yourself from scams.\nUnderstand what to do if you fall victim.\nLearn how to protect yourself from identity theft.\n\nProgram in partnership with: Richmond Public Library. \nFor more information\, please contact: \nRichmond Public Library 2nd Floor Ask Me Desk; or\nCall 604 231 6413 \n*Registration required\, limited spots available.
URL:https://fsgv.ca/event/frauds-scams-workshop-for-seniors/
LOCATION:Richmond Public Library\, 100-7700 Minoru Gate\, Richmond\, British Columbia\, V6Y 1R8\, Canada
CATEGORIES:Financial Empowerment
ATTACH;FMTTYPE=image/jpeg:https://fsgv.ca/wp-content/uploads/2025/09/Frauds-Scams-Workshop-for-Seniors-Financial-Empowerment-Oct-2025.jpg
END:VEVENT
BEGIN:VEVENT
DTSTART;TZID=America/Vancouver:20250918T100000
DTEND;TZID=America/Vancouver:20250918T150000
DTSTAMP:20260420T064432
CREATED:20250618T001206Z
LAST-MODIFIED:20250619T172652Z
UID:10001026-1758189600-1758207600@fsgv.ca
SUMMARY:Pop-up Tax Clinic - Richmond
DESCRIPTION:Do you have taxes that need to be filed? Have you missed the tax filing deadline? You may be missing out on benefits and tax credits. Financial Empowerment at FSGV is here to help with free tax filing! We can work together on current and previous years’ taxes.  \nThis confidential service is part of the Community Volunteer Income Tax Program. We’re teaming up to provide free tax clinics at Richmond Public Library. \nPlease bring your T4 slips and other forms and statements to help with filing. \nOn-site Service Canada \n\nCanadian Dental Care Plan – Information and Application/Attestation\nPension information on Old Age Security and Canada Pension Plan\nGet a Social Insurance Number (birth certificate in most cases will be required)\nReceive an access code to sign up for online My Service Canada\nGeneral Government of Canada information\n\nPlease note that we are unable to assist with and prepare tax filings for: \n\nBusiness or Rental Income\nSelf-employment income over $1\,000\nInterest or Capital Gains over $1\,000\nFinal Returns (for a deceased person)\n\nBook an Appointment \n 
URL:https://fsgv.ca/event/pop-up-tax-clinic-richmond/
LOCATION:Richmond Public Library\, 100-7700 Minoru Gate\, Richmond\, British Columbia\, V6Y 1R8\, Canada
CATEGORIES:Financial Empowerment,Physical Location Events
ATTACH;FMTTYPE=image/jpeg:https://fsgv.ca/wp-content/uploads/2025/06/Pop-up-Tax-Clinic-event-Financial-Empowerment-June-2025.jpg
END:VEVENT
BEGIN:VEVENT
DTSTART;TZID=America/Vancouver:20250308T103000
DTEND;TZID=America/Vancouver:20250308T163000
DTSTAMP:20260420T064432
CREATED:20250131T194432Z
LAST-MODIFIED:20250131T194723Z
UID:10000942-1741429800-1741451400@fsgv.ca
SUMMARY:Money Skills for Women (Cantonese)
DESCRIPTION:This workshop brings women together to gain confidence in managing their finances. By providing practical knowledge and tools\, participants are empowered to take control of their financial future. \nKey topics covered include: \n\nUnderstanding our relationship with money\nBudgeting and setting financial goals\nSavings strategies and options\nFiling taxes and maximizing benefits\n\nThis workshop provides a safe and supportive environment where women can share experiences and learn from one another while building financial independence. \nPresented in partnership with Richmond Public Library \n*Registration Required \n\n本工作坊專為女性設計，旨在幫助大家學習如何掌控自己的財務生活。通過提供實用的知識和工具，幫助女性更好地管理金錢，提升對未來財務的信心和掌控力。\n課程內容涵蓋了金錢管理的核心概念，包括如何看待金錢、制定預算、設立財務目標，以及為自己和家人規劃儲蓄的方式。此外，還會介紹報稅的基本知識和如何善用福利政策。工作坊提供了一個安全、互助的空間，讓女性能夠安心分享自己的財務故事與經驗。 \n 
URL:https://fsgv.ca/event/money-skills-for-women-cantonese-2/
LOCATION:Richmond Public Library\, 100-7700 Minoru Gate\, Richmond\, British Columbia\, V6Y 1R8\, Canada
CATEGORIES:Financial Empowerment
ATTACH;FMTTYPE=image/jpeg:https://fsgv.ca/wp-content/uploads/2024/10/Money-Skills-for-Women-Cantonese.jpg
END:VEVENT
BEGIN:VEVENT
DTSTART;TZID=America/Vancouver:20250226T103000
DTEND;TZID=America/Vancouver:20250226T120000
DTSTAMP:20260420T064432
CREATED:20250131T192209Z
LAST-MODIFIED:20250131T192209Z
UID:10000941-1740565800-1740571200@fsgv.ca
SUMMARY:Tax Basics - Richmond
DESCRIPTION:Want to find out more about the concepts and basics of income tax? Come and learn how to file online\, how filing taxes is key to accessing benefits and credits and how to prepare for tax season. This workshop is for people who are interested in preparing their taxes. \nPresented in partnership with Richmond Public Library \n*Registration Required
URL:https://fsgv.ca/event/tax-basics-richmond-2/
LOCATION:Richmond Public Library\, 100-7700 Minoru Gate\, Richmond\, British Columbia\, V6Y 1R8\, Canada
CATEGORIES:Financial Empowerment,Physical Location Events
ATTACH;FMTTYPE=image/jpeg:https://fsgv.ca/wp-content/uploads/2024/10/Tax-Basics-2.jpg
END:VEVENT
BEGIN:VEVENT
DTSTART;TZID=America/Vancouver:20250218T103000
DTEND;TZID=America/Vancouver:20250218T120000
DTSTAMP:20260420T064432
CREATED:20241031T210617Z
LAST-MODIFIED:20241031T210617Z
UID:10000932-1739874600-1739880000@fsgv.ca
SUMMARY:Tax Basics - Richmond
DESCRIPTION:Want to find out more about the concepts and basics of income tax? Come and learn how to file online\, how filing taxes is key to accessing benefits and credits and how to prepare for tax season. This workshop is for people who are interested in preparing their own taxes. \nPresented in partnership with Richmond Public Library
URL:https://fsgv.ca/event/tax-basics-richmond/
LOCATION:Richmond Public Library\, 100-7700 Minoru Gate\, Richmond\, British Columbia\, V6Y 1R8\, Canada
CATEGORIES:Financial Empowerment
ATTACH;FMTTYPE=image/jpeg:https://fsgv.ca/wp-content/uploads/2024/10/Tax-Basics-2.jpg
END:VEVENT
BEGIN:VEVENT
DTSTART;TZID=America/Vancouver:20241119T103000
DTEND;TZID=America/Vancouver:20241119T120000
DTSTAMP:20260420T064432
CREATED:20240926T212509Z
LAST-MODIFIED:20240926T212509Z
UID:10000930-1732012200-1732017600@fsgv.ca
SUMMARY:Will Preparation Basics
DESCRIPTION:Part of a series of talks on understanding and using financial skills. \nHas “writing a will” been on your to-do list for a long time? \nHaving a will ensures your estate (what you own minus what you owe) will be distributed according to your wishes when you die\, and is important for you and those who are left to manage your estate. \nThis workshop outlines the major elements in a will\, the timeliness of preparing one\, the benefits of having a will\, and will suggest opportunities to help ensure your intentions are fulfilled \nPresented in partnership with Richmond Public Library. \nTo register\, visit yourlibrary.ca/events\, call 604.231.6413\, or speak with library staff. \n*Registration required.
URL:https://fsgv.ca/event/will-preparation-basics-2/
LOCATION:Richmond Public Library\, 100-7700 Minoru Gate\, Richmond\, British Columbia\, V6Y 1R8\, Canada
CATEGORIES:Financial Empowerment,Physical Location Events
ATTACH;FMTTYPE=image/jpeg:https://fsgv.ca/wp-content/uploads/2024/09/FE-Will-Prep-Basics-w-RPL.jpg
END:VEVENT
BEGIN:VEVENT
DTSTART;TZID=America/Vancouver:20230802T103000
DTEND;TZID=America/Vancouver:20230802T113000
DTSTAMP:20260420T064432
CREATED:20230717T171204Z
LAST-MODIFIED:20230717T171204Z
UID:10000893-1690972200-1690975800@fsgv.ca
SUMMARY:Budgeting and Setting Financial Goals
DESCRIPTION:Join us at the Richmond Public Library (Brighouse\, 2nd floor Program Room) on Wednesday\, August 2 to learn to take control of your money!  \nBudgeting is one of the most powerful tools for taking control of your money. Let’s get together and learn how to track income and expenses\, which will give you a road map for financial wellness. We’ll cover distinguishing between needs and wants as well as setting short\, medium\, and long term financial goals.  \nThis workshop is free; registration is required. \nREGISTER
URL:https://fsgv.ca/event/budgeting-and-setting-financial-goals/
LOCATION:Richmond Public Library\, 100-7700 Minoru Gate\, Richmond\, British Columbia\, V6Y 1R8\, Canada
CATEGORIES:Financial Empowerment,Physical Location Events
ATTACH;FMTTYPE=image/jpeg:https://fsgv.ca/wp-content/uploads/2020/01/iStock-1049807888-1.jpg
END:VEVENT
BEGIN:VEVENT
DTSTART;TZID=America/Vancouver:20230510T103000
DTEND;TZID=America/Vancouver:20230510T113000
DTSTAMP:20260420T064432
CREATED:20230320T183556Z
LAST-MODIFIED:20230328T171603Z
UID:10000866-1683714600-1683718200@fsgv.ca
SUMMARY:Take Control of Your Credit
DESCRIPTION:Explore the good and bad types of credit\, how to build a good credit score\, how to stay out of debt\, and more! 
URL:https://fsgv.ca/event/take-control-of-your-credit/
LOCATION:Richmond Public Library\, 100-7700 Minoru Gate\, Richmond\, British Columbia\, V6Y 1R8\, Canada
CATEGORIES:Financial Empowerment,Physical Location Events
ATTACH;FMTTYPE=image/jpeg:https://fsgv.ca/wp-content/uploads/2023/03/iStock-1311107708-scaled.jpg
END:VEVENT
END:VCALENDAR