BEGIN:VCALENDAR
VERSION:2.0
PRODID:-//Family Services of Greater Vancouver - ECPv6.15.20//NONSGML v1.0//EN
CALSCALE:GREGORIAN
METHOD:PUBLISH
X-ORIGINAL-URL:https://fsgv.ca
X-WR-CALDESC:Events for Family Services of Greater Vancouver
REFRESH-INTERVAL;VALUE=DURATION:PT1H
X-Robots-Tag:noindex
X-PUBLISHED-TTL:PT1H
BEGIN:VTIMEZONE
TZID:America/Vancouver
BEGIN:DAYLIGHT
TZOFFSETFROM:-0800
TZOFFSETTO:-0700
TZNAME:PDT
DTSTART:20210314T100000
END:DAYLIGHT
BEGIN:STANDARD
TZOFFSETFROM:-0700
TZOFFSETTO:-0800
TZNAME:PST
DTSTART:20211107T090000
END:STANDARD
BEGIN:DAYLIGHT
TZOFFSETFROM:-0800
TZOFFSETTO:-0700
TZNAME:PDT
DTSTART:20220313T100000
END:DAYLIGHT
BEGIN:STANDARD
TZOFFSETFROM:-0700
TZOFFSETTO:-0800
TZNAME:PST
DTSTART:20221106T090000
END:STANDARD
BEGIN:DAYLIGHT
TZOFFSETFROM:-0800
TZOFFSETTO:-0700
TZNAME:PDT
DTSTART:20230312T100000
END:DAYLIGHT
BEGIN:STANDARD
TZOFFSETFROM:-0700
TZOFFSETTO:-0800
TZNAME:PST
DTSTART:20231105T090000
END:STANDARD
BEGIN:DAYLIGHT
TZOFFSETFROM:-0800
TZOFFSETTO:-0700
TZNAME:PDT
DTSTART:20240310T100000
END:DAYLIGHT
BEGIN:STANDARD
TZOFFSETFROM:-0700
TZOFFSETTO:-0800
TZNAME:PST
DTSTART:20241103T090000
END:STANDARD
END:VTIMEZONE
BEGIN:VEVENT
DTSTART;TZID=America/Vancouver:20230908T120000
DTEND;TZID=America/Vancouver:20230908T130000
DTSTAMP:20260421T201810
CREATED:20230717T185721Z
LAST-MODIFIED:20230717T185721Z
UID:10000895-1694174400-1694178000@fsgv.ca
SUMMARY:Register Education Savings Plans Workshop: Saving for Your Child's Education
DESCRIPTION:Post-secondary education is expensive and Financial Empowerment at Family Services of Greater Vancouver is here to help you create an affordability plan for your child(ren). Saving for your child’s education is more affordable than you think! Join us to learn all about Registered Education Savings Plans (RESPs): from starting an RESP account at the bank to accessing government matching and top-ups. \nThis is a free workshop; registration is required. \nREGISTER
URL:https://fsgv.ca/event/register-education-savings-plans-workshop-saving-for-your-childs-education/
LOCATION:Teams
CATEGORIES:Financial Empowerment,Virtual Events
ATTACH;FMTTYPE=image/jpeg:https://fsgv.ca/wp-content/uploads/2023/03/BC-Budget-scaled.jpg
END:VEVENT
BEGIN:VEVENT
DTSTART;TZID=America/Vancouver:20230907T170000
DTEND;TZID=America/Vancouver:20230907T180000
DTSTAMP:20260421T201810
CREATED:20230717T185021Z
LAST-MODIFIED:20230717T185731Z
UID:10000894-1694106000-1694109600@fsgv.ca
SUMMARY:Registered Education Savings Plans Workshop: Saving for Your Child's Education
DESCRIPTION:Post-secondary education is expensive and Financial Empowerment at Family Services of Greater Vancouver is here to help you create an affordability plan for your child(ren). Saving for your child’s education is more affordable than you think! Join us to learn all about Registered Education Savings Plans (RESPs): from starting an RESP account at the bank to accessing government matching and top-ups. \nThis is a free workshop; registration is required. \nREGISTER
URL:https://fsgv.ca/event/registered-education-savings-plans-workshop-saving-for-your-childs-education/
LOCATION:Teams
CATEGORIES:Financial Empowerment,Virtual Events
ATTACH;FMTTYPE=image/jpeg:https://fsgv.ca/wp-content/uploads/2023/03/BC-Budget-scaled.jpg
END:VEVENT
BEGIN:VEVENT
DTSTART;TZID=America/Vancouver:20230811T120000
DTEND;TZID=America/Vancouver:20230811T130000
DTSTAMP:20260421T201810
CREATED:20230717T191636Z
LAST-MODIFIED:20230717T191636Z
UID:10000896-1691755200-1691758800@fsgv.ca
SUMMARY:Navigating Government Benefits Workshop
DESCRIPTION:Many of us could use the help of government benefits now more than ever\, and many people don’t realize that they’re eligible for them! \nJoin our Financial Empowerment team for this free workshop on the Benefits Wayfinder tool. With it\, you can identify the right benefits for you\, apply for the benefits\, and plan how to best use money you receive according to your financial goals.  \nThis is a free workshop; registration required.  \nREGISTER
URL:https://fsgv.ca/event/navigating-government-benefits-workshop/
LOCATION:Teams
CATEGORIES:Financial Empowerment,Virtual Events
ATTACH;FMTTYPE=image/png:https://fsgv.ca/wp-content/uploads/2021/11/WomenSavingMoney_2_768x450.png
END:VEVENT
BEGIN:VEVENT
DTSTART;TZID=America/Vancouver:20230607T130000
DTEND;TZID=America/Vancouver:20230607T143000
DTSTAMP:20260421T201810
CREATED:20230505T190409Z
LAST-MODIFIED:20230505T190409Z
UID:10000888-1686142800-1686148200@fsgv.ca
SUMMARY:Frauds and Scams Workshop
DESCRIPTION:Presented in English. \nIn partnership with Surrey Libraries for Seniors Week\, we’re hosting a workshop where you can learn how to protect yourself from banking scams\, phishing scams\, and identity theft\, as well as what to do if you’ve been scammed. \nTo register\, please email: libraryprograms@surrey.ca
URL:https://fsgv.ca/event/frauds-and-scams-workshop/
LOCATION:Teams
CATEGORIES:Financial Empowerment,Virtual Events
ATTACH;FMTTYPE=image/jpeg:https://fsgv.ca/wp-content/uploads/2022/08/CommunityPrograms396x230.jpg
END:VEVENT
BEGIN:VEVENT
DTSTART;TZID=America/Vancouver:20230606T130000
DTEND;TZID=America/Vancouver:20230606T143000
DTSTAMP:20260421T201810
CREATED:20230320T185120Z
LAST-MODIFIED:20230328T171748Z
UID:10000867-1686056400-1686061800@fsgv.ca
SUMMARY:Saving and Investing
DESCRIPTION:Hosted online (via Teams) in English. \nWant to save for your future but unsure of where to begin? We’ll walk you through the types of registered investment vehicles (like RRSPs\, TFSAs\, RESPs\, and RDSPs) and investment options like GICs\, stocks\, bonds\, mutual funds\, and index funds. This workshop aims to show you how to navigate the benefits\, risks\, and fees to figure out which best fit your goals.
URL:https://fsgv.ca/event/saving-and-investing/
LOCATION:Teams
CATEGORIES:Financial Empowerment,Virtual Events
ATTACH;FMTTYPE=image/jpeg:https://fsgv.ca/wp-content/uploads/2023/03/Saving-and-Investing.jpg
END:VEVENT
BEGIN:VEVENT
DTSTART;TZID=America/Vancouver:20230526T120000
DTEND;TZID=America/Vancouver:20230526T130000
DTSTAMP:20260421T201810
CREATED:20230323T000030Z
LAST-MODIFIED:20230328T170901Z
UID:10000872-1685102400-1685106000@fsgv.ca
SUMMARY:Financial Planning for Post-Secondary Education
DESCRIPTION:Post-secondary education is expensive and we’re here to help you create an affordability plan for your child(ren).  Join us to learn all about Registered Education Savings Plans (RESPs): from starting an RESP account at the bank to accessing government matching and top-ups.
URL:https://fsgv.ca/event/financial-planning-for-post-secondary-education/2023-05-26/
LOCATION:Teams
CATEGORIES:Financial Empowerment,Virtual Events
ATTACH;FMTTYPE=image/jpeg:https://fsgv.ca/wp-content/uploads/2023/03/Saving-for-Education-scaled.jpg
END:VEVENT
BEGIN:VEVENT
DTSTART;TZID=America/Vancouver:20230525T170000
DTEND;TZID=America/Vancouver:20230525T180000
DTSTAMP:20260421T201810
CREATED:20230322T235427Z
LAST-MODIFIED:20230330T230808Z
UID:10000870-1685034000-1685037600@fsgv.ca
SUMMARY:Financial Planning for Post-Secondary Education (Spanish)
DESCRIPTION:Post-secondary education is expensive and we’re here to help you create an affordability plan for your child(ren).  Join us to learn all about Registered Education Savings Plans (RESPs): from starting an RESP account at the bank to accessing government matching and top-ups.
URL:https://fsgv.ca/event/financial-planning-for-post-secondary-education-spanish-2023-05-25/2023-05-25/
LOCATION:Teams
CATEGORIES:Financial Empowerment,Virtual Events
ATTACH;FMTTYPE=image/jpeg:https://fsgv.ca/wp-content/uploads/2023/03/Saving-for-Education-scaled.jpg
END:VEVENT
BEGIN:VEVENT
DTSTART;TZID=America/Vancouver:20230512T120000
DTEND;TZID=America/Vancouver:20230512T130000
DTSTAMP:20260421T201810
CREATED:20230323T000030Z
LAST-MODIFIED:20230328T170901Z
UID:10000871-1683892800-1683896400@fsgv.ca
SUMMARY:Financial Planning for Post-Secondary Education
DESCRIPTION:Post-secondary education is expensive and we’re here to help you create an affordability plan for your child(ren).  Join us to learn all about Registered Education Savings Plans (RESPs): from starting an RESP account at the bank to accessing government matching and top-ups.
URL:https://fsgv.ca/event/financial-planning-for-post-secondary-education/2023-05-12/
LOCATION:Teams
CATEGORIES:Financial Empowerment,Virtual Events
ATTACH;FMTTYPE=image/jpeg:https://fsgv.ca/wp-content/uploads/2023/03/Saving-for-Education-scaled.jpg
END:VEVENT
BEGIN:VEVENT
DTSTART;TZID=America/Vancouver:20230428T120000
DTEND;TZID=America/Vancouver:20230428T130000
DTSTAMP:20260421T201810
CREATED:20230322T234956Z
LAST-MODIFIED:20230328T170219Z
UID:10000869-1682683200-1682686800@fsgv.ca
SUMMARY:Saving and Investing
DESCRIPTION:Want to save for your future but unsure of where to begin? We’ll walk you through the types of registered investment vehicles (like RRSPs\, TFSAs\, RESPs\, and RDSPs) and investment options like GICs\, stocks\, bonds\, mutual funds\, and index funds. This workshop aims to show you how to navigate the benefits\, risks\, and fees to figure out which best fit your goals.
URL:https://fsgv.ca/event/saving-and-investing-3/
LOCATION:Teams
CATEGORIES:Financial Empowerment,Virtual Events
ATTACH;FMTTYPE=image/jpeg:https://fsgv.ca/wp-content/uploads/2023/03/Saving-and-Investing.jpg
END:VEVENT
BEGIN:VEVENT
DTSTART;TZID=America/Vancouver:20230427T170000
DTEND;TZID=America/Vancouver:20230427T180000
DTSTAMP:20260421T201810
CREATED:20230322T234333Z
LAST-MODIFIED:20230328T171518Z
UID:10000868-1682614800-1682618400@fsgv.ca
SUMMARY:Saving and Investing (Spanish)
DESCRIPTION:Want to save for your future but unsure of where to begin? We’ll walk you through the types of registered investment vehicles (like RRSPs\, TFSAs\, RESPs\, and RDSPs) and investment options like GICs\, stocks\, bonds\, mutual funds\, and index funds. This workshop aims to show you how to navigate the benefits\, risks\, and fees to figure out which best fit your goals.
URL:https://fsgv.ca/event/saving-and-investing-2/
LOCATION:Teams
CATEGORIES:Financial Empowerment,Virtual Events
ATTACH;FMTTYPE=image/jpeg:https://fsgv.ca/wp-content/uploads/2023/03/Saving-and-Investing.jpg
END:VEVENT
BEGIN:VEVENT
DTSTART;TZID=America/Vancouver:20230414T120000
DTEND;TZID=America/Vancouver:20230414T130000
DTSTAMP:20260421T201810
CREATED:20230216T004746Z
LAST-MODIFIED:20230328T171136Z
UID:10000728-1681473600-1681477200@fsgv.ca
SUMMARY:Tax Basics
DESCRIPTION:Are you struggling with tax filing? \nDoing taxes isn’t most people’s idea of fun\, but to access many government benefits\, you need to have filed your taxes.  No matter what challenges you face with filing\, we can help.
URL:https://fsgv.ca/event/tax-basics-2023-04-01/
LOCATION:Teams
CATEGORIES:Financial Empowerment,Virtual Events
ATTACH;FMTTYPE=application/pdf:https://fsgv.ca/wp-content/uploads/2023/02/Tax-Basics-1.pdf
END:VEVENT
BEGIN:VEVENT
DTSTART;TZID=America/Vancouver:20230413T170000
DTEND;TZID=America/Vancouver:20230413T180000
DTSTAMP:20260421T201810
CREATED:20230216T003827Z
LAST-MODIFIED:20230328T171022Z
UID:10000726-1681405200-1681408800@fsgv.ca
SUMMARY:Tax Basics (in Spanish)
DESCRIPTION:Presented in Spanish:  \nAre you struggling with tax filing? Doing taxes isn’t most people’s idea of fun\, but to access many government benefits\, you need to have filed your taxes.  No matter what challenges you face with filing\, we can help. \n 
URL:https://fsgv.ca/event/tax-basics-in-spanish/2023-04-13/
LOCATION:Teams
CATEGORIES:Financial Empowerment,Virtual Events
ATTACH;FMTTYPE=application/pdf:https://fsgv.ca/wp-content/uploads/2023/02/Tax-Basics.pdf
END:VEVENT
BEGIN:VEVENT
DTSTART;TZID=America/Vancouver:20230302T170000
DTEND;TZID=America/Vancouver:20230302T180000
DTSTAMP:20260421T201810
CREATED:20230216T003827Z
LAST-MODIFIED:20230328T171022Z
UID:10000725-1677776400-1677780000@fsgv.ca
SUMMARY:Tax Basics (in Spanish)
DESCRIPTION:Presented in Spanish:  \nAre you struggling with tax filing? Doing taxes isn’t most people’s idea of fun\, but to access many government benefits\, you need to have filed your taxes.  No matter what challenges you face with filing\, we can help. \n 
URL:https://fsgv.ca/event/tax-basics-in-spanish/2023-03-02/
LOCATION:Teams
CATEGORIES:Financial Empowerment,Virtual Events
ATTACH;FMTTYPE=application/pdf:https://fsgv.ca/wp-content/uploads/2023/02/Tax-Basics.pdf
END:VEVENT
BEGIN:VEVENT
DTSTART;TZID=America/Vancouver:20230224T120000
DTEND;TZID=America/Vancouver:20230224T130000
DTSTAMP:20260421T201810
CREATED:20221216T014644Z
LAST-MODIFIED:20221216T014644Z
UID:10000480-1677240000-1677243600@fsgv.ca
SUMMARY:Debt (in English)
DESCRIPTION:Join us to learn how to avoid credit debt and how to get out from under debt. 
URL:https://fsgv.ca/event/debt-4/
LOCATION:Teams
CATEGORIES:Financial Empowerment,Virtual Events
ATTACH;FMTTYPE=image/png:https://fsgv.ca/wp-content/uploads/2020/04/FinancialStress.png
END:VEVENT
BEGIN:VEVENT
DTSTART;TZID=America/Vancouver:20230216T170000
DTEND;TZID=America/Vancouver:20230216T180000
DTSTAMP:20260421T201810
CREATED:20221216T014304Z
LAST-MODIFIED:20221216T014304Z
UID:10000479-1676566800-1676570400@fsgv.ca
SUMMARY:Credit (in Spanish)
DESCRIPTION:Presented in Spanish: \nExplore the good and bad types of credit\, when it’s wise to use credit\, your rights and responsibilities for using credit\, and how to build a good credit score — you’ll even leave understanding why having good credit matters.
URL:https://fsgv.ca/event/credit-in-spanish/
LOCATION:Teams
CATEGORIES:Financial Empowerment,Virtual Events
ATTACH;FMTTYPE=image/jpeg:https://fsgv.ca/wp-content/uploads/2022/08/pexels-karolina-grabowska-6329027-1.jpg
END:VEVENT
BEGIN:VEVENT
DTSTART;TZID=America/Vancouver:20230215T120000
DTEND;TZID=America/Vancouver:20230215T130000
DTSTAMP:20260421T201810
CREATED:20221216T014050Z
LAST-MODIFIED:20221216T014050Z
UID:10000478-1676462400-1676466000@fsgv.ca
SUMMARY:Credit (in English)
DESCRIPTION:Explore the good and bad types of credit\, when it’s wise to use credit\, your rights and responsibilities for using credit\, and how to build a good credit score — you’ll even leave understanding why having good credit matters.
URL:https://fsgv.ca/event/credit-in-english/
LOCATION:Teams
CATEGORIES:Financial Empowerment,Virtual Events
ATTACH;FMTTYPE=image/jpeg:https://fsgv.ca/wp-content/uploads/2022/08/pexels-karolina-grabowska-6329027-1.jpg
END:VEVENT
BEGIN:VEVENT
DTSTART;TZID=America/Vancouver:20230210T120000
DTEND;TZID=America/Vancouver:20230210T130000
DTSTAMP:20260421T201810
CREATED:20221216T013653Z
LAST-MODIFIED:20221216T014032Z
UID:10000477-1676030400-1676034000@fsgv.ca
SUMMARY:Credit (in English)
DESCRIPTION:Explore the good and bad types of credit\, when it’s wise to use credit\, your rights and responsibilities for using credit\, and how to build a good credit score — you’ll even leave understanding why having good credit matters.
URL:https://fsgv.ca/event/credit-3/
LOCATION:Teams
CATEGORIES:Financial Empowerment,Virtual Events
ATTACH;FMTTYPE=image/jpeg:https://fsgv.ca/wp-content/uploads/2022/08/pexels-karolina-grabowska-6329027-1.jpg
END:VEVENT
BEGIN:VEVENT
DTSTART;TZID=America/Vancouver:20230206T170000
DTEND;TZID=America/Vancouver:20230206T180000
DTSTAMP:20260421T201810
CREATED:20221216T012435Z
LAST-MODIFIED:20221216T012435Z
UID:10000476-1675702800-1675706400@fsgv.ca
SUMMARY:Banks and Credit Unions (in Vietnamese)
DESCRIPTION:Presented in Vietnamese: \nReduce your banking costs! Learn about account types\, service options\, and basic investments.
URL:https://fsgv.ca/event/banks-and-credit-unions-5/
LOCATION:Teams
CATEGORIES:Financial Empowerment,Virtual Events
ATTACH;FMTTYPE=image/jpeg:https://fsgv.ca/wp-content/uploads/2022/09/pexels-rodnae-productions-7821711_3_50_1_50-e1663707073205.jpg
END:VEVENT
BEGIN:VEVENT
DTSTART;TZID=America/Vancouver:20230202T170000
DTEND;TZID=America/Vancouver:20230202T180000
DTSTAMP:20260421T201810
CREATED:20221216T011459Z
LAST-MODIFIED:20221216T011459Z
UID:10000475-1675357200-1675360800@fsgv.ca
SUMMARY:Banks and Credit Unions (in Spanish)
DESCRIPTION:Presented in Spanish: \nReduce your banking costs! Learn about account types\, service options\, and basic investments.
URL:https://fsgv.ca/event/banks-and-credit-unions-in-spanish/
LOCATION:Teams
CATEGORIES:Financial Empowerment,Virtual Events
ATTACH;FMTTYPE=image/jpeg:https://fsgv.ca/wp-content/uploads/2022/09/pexels-rodnae-productions-7821711_3_50-scaled.jpg
END:VEVENT
BEGIN:VEVENT
DTSTART;TZID=America/Vancouver:20230201T120000
DTEND;TZID=America/Vancouver:20230201T130000
DTSTAMP:20260421T201810
CREATED:20221215T235506Z
LAST-MODIFIED:20221215T235506Z
UID:10000474-1675252800-1675256400@fsgv.ca
SUMMARY:Banks and Credit Unions (in English)
DESCRIPTION:Reduce your banking costs! Learn about account types\, service options\, and basic investments.
URL:https://fsgv.ca/event/banks-and-credit-unions-4/
LOCATION:Teams
CATEGORIES:Financial Empowerment,Virtual Events
ATTACH;FMTTYPE=image/jpeg:https://fsgv.ca/wp-content/uploads/2022/09/pexels-rodnae-productions-7821711_3_50-scaled.jpg
END:VEVENT
BEGIN:VEVENT
DTSTART;TZID=America/Vancouver:20230123T170000
DTEND;TZID=America/Vancouver:20230123T180000
DTSTAMP:20260421T201810
CREATED:20221215T234623Z
LAST-MODIFIED:20221215T234623Z
UID:10000627-1674493200-1674496800@fsgv.ca
SUMMARY:Budgeting (in Cantonese)
DESCRIPTION:Presented in Cantonese: \nYour money is a tool and we want to teach you how to use it! Learn to track and break down your income vs. expenses and needs vs. wants in order to create a realistic budget. We’ll teach you how to design a budget around your goals and give you tips for staying on track.  
URL:https://fsgv.ca/event/budgeting-5/
LOCATION:Teams
CATEGORIES:Financial Empowerment,Virtual Events
ATTACH;FMTTYPE=image/jpeg:https://fsgv.ca/wp-content/uploads/2022/08/Retirement396x230.jpg
END:VEVENT
BEGIN:VEVENT
DTSTART;TZID=America/Vancouver:20230119T170000
DTEND;TZID=America/Vancouver:20230119T180000
DTSTAMP:20260421T201810
CREATED:20221215T234221Z
LAST-MODIFIED:20221215T234221Z
UID:10000626-1674147600-1674151200@fsgv.ca
SUMMARY:Budgeting (in Spanish) | Hacer un Presupuesto
DESCRIPTION:Your money is a tool and we want to teach you how to use it! Learn to track and break down your income vs. expenses and needs vs. wants in order to create a realistic budget. We’ll teach you how to design a budget around your goals and give you tips for staying on track.  
URL:https://fsgv.ca/event/budgeting-4/
LOCATION:Teams
CATEGORIES:Financial Empowerment,Virtual Events
ATTACH;FMTTYPE=image/jpeg:https://fsgv.ca/wp-content/uploads/2022/08/Retirement396x230.jpg
END:VEVENT
BEGIN:VEVENT
DTSTART;TZID=America/Vancouver:20230119T143000
DTEND;TZID=America/Vancouver:20230119T153000
DTSTAMP:20260421T201810
CREATED:20221215T233754Z
LAST-MODIFIED:20221215T233754Z
UID:10000625-1674138600-1674142200@fsgv.ca
SUMMARY:Budgeting برای ایجاد (in Farsi)
DESCRIPTION:Budgeting برای ایجاد (Presented in Farsi) \nYour money is a tool and we want to teach you how to use it! Learn to track and break down your income vs. expenses and needs vs. wants in order to create a realistic budget. We’ll teach you how to design a budget around your goals and give you tips for staying on track.  
URL:https://fsgv.ca/event/budgeting-3/
LOCATION:Teams
CATEGORIES:Financial Empowerment,Virtual Events
ATTACH;FMTTYPE=image/jpeg:https://fsgv.ca/wp-content/uploads/2022/08/Retirement396x230.jpg
END:VEVENT
BEGIN:VEVENT
DTSTART;TZID=America/Vancouver:20230118T100000
DTEND;TZID=America/Vancouver:20230118T110000
DTSTAMP:20260421T201810
CREATED:20221215T233012Z
LAST-MODIFIED:20221215T233012Z
UID:10000624-1674036000-1674039600@fsgv.ca
SUMMARY:Budgeting (in English)
DESCRIPTION:Your money is a tool and we want to teach you how to use it! Learn to track and break down your income vs. expenses and needs vs. wants in order to create a realistic budget. We’ll teach you how to design a budget around your goals and give you tips for staying on track.  
URL:https://fsgv.ca/event/budgeting-2/
LOCATION:Teams
CATEGORIES:Financial Empowerment,Virtual Events
ATTACH;FMTTYPE=image/jpeg:https://fsgv.ca/wp-content/uploads/2022/08/Retirement396x230.jpg
END:VEVENT
BEGIN:VEVENT
DTSTART;TZID=America/Vancouver:20230113T120000
DTEND;TZID=America/Vancouver:20230113T130000
DTSTAMP:20260421T201810
CREATED:20221215T232412Z
LAST-MODIFIED:20221215T232412Z
UID:10000623-1673611200-1673614800@fsgv.ca
SUMMARY:Budgeting (in English)
DESCRIPTION:Your money is a tool and we want to teach you how to use it! Learn to track and break down your income vs. expenses and needs vs. wants in order to create a realistic budget. We’ll teach you how to design a budget around your goals and give you tips for staying on track.  
URL:https://fsgv.ca/event/budgeting/
LOCATION:Teams
CATEGORIES:Financial Empowerment,Virtual Events
ATTACH;FMTTYPE=image/jpeg:https://fsgv.ca/wp-content/uploads/2022/08/Retirement396x230.jpg
END:VEVENT
BEGIN:VEVENT
DTSTART;TZID=America/Vancouver:20230109T170000
DTEND;TZID=America/Vancouver:20230109T180000
DTSTAMP:20260421T201810
CREATED:20230104T191519Z
LAST-MODIFIED:20230104T191519Z
UID:10000628-1673283600-1673287200@fsgv.ca
SUMMARY:Goal Setting and Your Relationship with Money (in Vietnamese)
DESCRIPTION:Presented in Vietnamese: \nOverwhelmed about managing money? Want to reach better financial well-being? \nIn this workshop\, reflect upon the habits\, beliefs and practices that lead our behaviour towards money. Gain knowledge about the foundations of money management and practice using tools to plan and decide where your money goes. Learn to set financial goals and develop strategies to reach them.
URL:https://fsgv.ca/event/goal-setting-and-your-relationship-with-money-in-vietnamese/
LOCATION:Teams
CATEGORIES:Financial Empowerment,Virtual Events
ATTACH;FMTTYPE=image/jpeg:https://fsgv.ca/wp-content/uploads/2022/12/FinancialEmpowerment.jpg
END:VEVENT
BEGIN:VEVENT
DTSTART;TZID=America/Vancouver:20230105T170000
DTEND;TZID=America/Vancouver:20230105T180000
DTSTAMP:20260421T201810
CREATED:20230104T190959Z
LAST-MODIFIED:20230104T190959Z
UID:10000483-1672938000-1672941600@fsgv.ca
SUMMARY:Goal Setting and Your Relationship with Money (in Spanish)
DESCRIPTION:Presented in Spanish: \nOverwhelmed about managing money? Want to reach better financial well-being? \nIn this workshop\, reflect upon the habits\, beliefs and practices that lead our behaviour towards money. Gain knowledge about the foundations of money management and practice using tools to plan and decide where your money goes. Learn to set financial goals and develop strategies to reach them.
URL:https://fsgv.ca/event/goal-setting-and-your-relationship-with-money-in-spanish/
LOCATION:Teams
CATEGORIES:Financial Empowerment,Virtual Events
ATTACH;FMTTYPE=image/png:https://fsgv.ca/wp-content/uploads/2020/01/FinancialEmpHero.png
END:VEVENT
BEGIN:VEVENT
DTSTART;TZID=America/Vancouver:20230105T143000
DTEND;TZID=America/Vancouver:20230105T153000
DTSTAMP:20260421T201810
CREATED:20221223T011416Z
LAST-MODIFIED:20221223T011416Z
UID:10000482-1672929000-1672932600@fsgv.ca
SUMMARY:Goal Setting and Your Relationship with Money (in Farsi)
DESCRIPTION: برای ایجاد \nPresented in Farsi : \nOverwhelmed about managing money? Want to reach better financial well-being? \nIn this workshop\, reflect upon the habits\, beliefs and practices that lead our behaviour towards money. Gain knowledge about the foundations of money management and practice using tools to plan and decide where your money goes. Learn to set financial goals and develop strategies to reach them.
URL:https://fsgv.ca/event/goal-setting-and-your-relationship-with-money-in-farsi/
LOCATION:Teams
CATEGORIES:Financial Empowerment,Virtual Events
END:VEVENT
BEGIN:VEVENT
DTSTART;TZID=America/Vancouver:20230104T100000
DTEND;TZID=America/Vancouver:20230104T110000
DTSTAMP:20260421T201810
CREATED:20221223T011151Z
LAST-MODIFIED:20221223T011221Z
UID:10000481-1672826400-1672830000@fsgv.ca
SUMMARY:Goal Setting and Your Relationship with Money (in English)
DESCRIPTION:Overwhelmed about managing money? Want to reach better financial well-being? \nIn this workshop\, reflect upon the habits\, beliefs and practices that lead our behaviour towards money. Gain knowledge about the foundations of money management and practice using tools to plan and decide where your money goes. Learn to set financial goals and develop strategies to reach them.
URL:https://fsgv.ca/event/goal-setting-and-your-relationship-with-money/
LOCATION:Teams
CATEGORIES:Financial Empowerment,Virtual Events
ATTACH;FMTTYPE=image/png:https://fsgv.ca/wp-content/uploads/2020/01/FinancialFSGVHeroSmall.png
END:VEVENT
BEGIN:VEVENT
DTSTART;TZID=America/Vancouver:20221216T120000
DTEND;TZID=America/Vancouver:20221216T130000
DTSTAMP:20260421T201810
CREATED:20221117T193114Z
LAST-MODIFIED:20221117T193602Z
UID:10000621-1671192000-1671195600@fsgv.ca
SUMMARY:Consumerism
DESCRIPTION:Our world is constantly equating happiness with buying and consuming material things. Ads surround us with messages encouraging us to want\, buy\, and have MORE. There’s a high cost of consumerism on your health\, financial stability\, our environment\, and social equality. Come unpack consumerism with us: what it is and how to manage the influence it has on us. 
URL:https://fsgv.ca/event/consumerism/
LOCATION:Teams
CATEGORIES:Financial Empowerment,Virtual Events
ATTACH;FMTTYPE=image/png:https://fsgv.ca/wp-content/uploads/2021/11/Consumerism768x450.png
END:VEVENT
END:VCALENDAR