BEGIN:VCALENDAR
VERSION:2.0
PRODID:-//Family Services of Greater Vancouver - ECPv6.15.20//NONSGML v1.0//EN
CALSCALE:GREGORIAN
METHOD:PUBLISH
X-ORIGINAL-URL:https://fsgv.ca
X-WR-CALDESC:Events for Family Services of Greater Vancouver
REFRESH-INTERVAL;VALUE=DURATION:PT1H
X-Robots-Tag:noindex
X-PUBLISHED-TTL:PT1H
BEGIN:VTIMEZONE
TZID:America/Vancouver
BEGIN:DAYLIGHT
TZOFFSETFROM:-0800
TZOFFSETTO:-0700
TZNAME:PDT
DTSTART:20210314T100000
END:DAYLIGHT
BEGIN:STANDARD
TZOFFSETFROM:-0700
TZOFFSETTO:-0800
TZNAME:PST
DTSTART:20211107T090000
END:STANDARD
BEGIN:DAYLIGHT
TZOFFSETFROM:-0800
TZOFFSETTO:-0700
TZNAME:PDT
DTSTART:20220313T100000
END:DAYLIGHT
BEGIN:STANDARD
TZOFFSETFROM:-0700
TZOFFSETTO:-0800
TZNAME:PST
DTSTART:20221106T090000
END:STANDARD
BEGIN:DAYLIGHT
TZOFFSETFROM:-0800
TZOFFSETTO:-0700
TZNAME:PDT
DTSTART:20230312T100000
END:DAYLIGHT
BEGIN:STANDARD
TZOFFSETFROM:-0700
TZOFFSETTO:-0800
TZNAME:PST
DTSTART:20231105T090000
END:STANDARD
BEGIN:DAYLIGHT
TZOFFSETFROM:-0800
TZOFFSETTO:-0700
TZNAME:PDT
DTSTART:20240310T100000
END:DAYLIGHT
BEGIN:STANDARD
TZOFFSETFROM:-0700
TZOFFSETTO:-0800
TZNAME:PST
DTSTART:20241103T090000
END:STANDARD
END:VTIMEZONE
BEGIN:VEVENT
DTSTART;TZID=America/Vancouver:20230113T120000
DTEND;TZID=America/Vancouver:20230113T130000
DTSTAMP:20260421T232353
CREATED:20221215T232412Z
LAST-MODIFIED:20221215T232412Z
UID:10000623-1673611200-1673614800@fsgv.ca
SUMMARY:Budgeting (in English)
DESCRIPTION:Your money is a tool and we want to teach you how to use it! Learn to track and break down your income vs. expenses and needs vs. wants in order to create a realistic budget. We’ll teach you how to design a budget around your goals and give you tips for staying on track.  
URL:https://fsgv.ca/event/budgeting/
LOCATION:Teams
CATEGORIES:Financial Empowerment,Virtual Events
ATTACH;FMTTYPE=image/jpeg:https://fsgv.ca/wp-content/uploads/2022/08/Retirement396x230.jpg
END:VEVENT
BEGIN:VEVENT
DTSTART;TZID=America/Vancouver:20230109T170000
DTEND;TZID=America/Vancouver:20230109T180000
DTSTAMP:20260421T232353
CREATED:20230104T191519Z
LAST-MODIFIED:20230104T191519Z
UID:10000628-1673283600-1673287200@fsgv.ca
SUMMARY:Goal Setting and Your Relationship with Money (in Vietnamese)
DESCRIPTION:Presented in Vietnamese: \nOverwhelmed about managing money? Want to reach better financial well-being? \nIn this workshop\, reflect upon the habits\, beliefs and practices that lead our behaviour towards money. Gain knowledge about the foundations of money management and practice using tools to plan and decide where your money goes. Learn to set financial goals and develop strategies to reach them.
URL:https://fsgv.ca/event/goal-setting-and-your-relationship-with-money-in-vietnamese/
LOCATION:Teams
CATEGORIES:Financial Empowerment,Virtual Events
ATTACH;FMTTYPE=image/jpeg:https://fsgv.ca/wp-content/uploads/2022/12/FinancialEmpowerment.jpg
END:VEVENT
BEGIN:VEVENT
DTSTART;TZID=America/Vancouver:20230105T170000
DTEND;TZID=America/Vancouver:20230105T180000
DTSTAMP:20260421T232353
CREATED:20230104T190959Z
LAST-MODIFIED:20230104T190959Z
UID:10000483-1672938000-1672941600@fsgv.ca
SUMMARY:Goal Setting and Your Relationship with Money (in Spanish)
DESCRIPTION:Presented in Spanish: \nOverwhelmed about managing money? Want to reach better financial well-being? \nIn this workshop\, reflect upon the habits\, beliefs and practices that lead our behaviour towards money. Gain knowledge about the foundations of money management and practice using tools to plan and decide where your money goes. Learn to set financial goals and develop strategies to reach them.
URL:https://fsgv.ca/event/goal-setting-and-your-relationship-with-money-in-spanish/
LOCATION:Teams
CATEGORIES:Financial Empowerment,Virtual Events
ATTACH;FMTTYPE=image/png:https://fsgv.ca/wp-content/uploads/2020/01/FinancialEmpHero.png
END:VEVENT
BEGIN:VEVENT
DTSTART;TZID=America/Vancouver:20230105T143000
DTEND;TZID=America/Vancouver:20230105T153000
DTSTAMP:20260421T232353
CREATED:20221223T011416Z
LAST-MODIFIED:20221223T011416Z
UID:10000482-1672929000-1672932600@fsgv.ca
SUMMARY:Goal Setting and Your Relationship with Money (in Farsi)
DESCRIPTION: برای ایجاد \nPresented in Farsi : \nOverwhelmed about managing money? Want to reach better financial well-being? \nIn this workshop\, reflect upon the habits\, beliefs and practices that lead our behaviour towards money. Gain knowledge about the foundations of money management and practice using tools to plan and decide where your money goes. Learn to set financial goals and develop strategies to reach them.
URL:https://fsgv.ca/event/goal-setting-and-your-relationship-with-money-in-farsi/
LOCATION:Teams
CATEGORIES:Financial Empowerment,Virtual Events
END:VEVENT
BEGIN:VEVENT
DTSTART;TZID=America/Vancouver:20230104T100000
DTEND;TZID=America/Vancouver:20230104T110000
DTSTAMP:20260421T232353
CREATED:20221223T011151Z
LAST-MODIFIED:20221223T011221Z
UID:10000481-1672826400-1672830000@fsgv.ca
SUMMARY:Goal Setting and Your Relationship with Money (in English)
DESCRIPTION:Overwhelmed about managing money? Want to reach better financial well-being? \nIn this workshop\, reflect upon the habits\, beliefs and practices that lead our behaviour towards money. Gain knowledge about the foundations of money management and practice using tools to plan and decide where your money goes. Learn to set financial goals and develop strategies to reach them.
URL:https://fsgv.ca/event/goal-setting-and-your-relationship-with-money/
LOCATION:Teams
CATEGORIES:Financial Empowerment,Virtual Events
ATTACH;FMTTYPE=image/png:https://fsgv.ca/wp-content/uploads/2020/01/FinancialFSGVHeroSmall.png
END:VEVENT
BEGIN:VEVENT
DTSTART;TZID=America/Vancouver:20221216T120000
DTEND;TZID=America/Vancouver:20221216T130000
DTSTAMP:20260421T232353
CREATED:20221117T193114Z
LAST-MODIFIED:20221117T193602Z
UID:10000621-1671192000-1671195600@fsgv.ca
SUMMARY:Consumerism
DESCRIPTION:Our world is constantly equating happiness with buying and consuming material things. Ads surround us with messages encouraging us to want\, buy\, and have MORE. There’s a high cost of consumerism on your health\, financial stability\, our environment\, and social equality. Come unpack consumerism with us: what it is and how to manage the influence it has on us. 
URL:https://fsgv.ca/event/consumerism/
LOCATION:Teams
CATEGORIES:Financial Empowerment,Virtual Events
ATTACH;FMTTYPE=image/png:https://fsgv.ca/wp-content/uploads/2021/11/Consumerism768x450.png
END:VEVENT
BEGIN:VEVENT
DTSTART;TZID=America/Vancouver:20221212T170000
DTEND;TZID=America/Vancouver:20221212T180000
DTSTAMP:20260421T232353
CREATED:20221130T023411Z
LAST-MODIFIED:20221130T023411Z
UID:10000622-1670864400-1670868000@fsgv.ca
SUMMARY:Consumerism in Vietnamese
DESCRIPTION:Presented in Vietnamese: \nOur world is constantly equating happiness with buying and consuming material things. Ads surround us with messages encouraging us to want\, buy\, and have MORE. There’s a high cost of consumerism on your health\, financial stability\, our environment\, and social equality. Come unpack consumerism with us: what it is and how to manage the influence it has on us. 
URL:https://fsgv.ca/event/consumerism-workhop/
LOCATION:Teams
CATEGORIES:Financial Empowerment,Virtual Events
ATTACH;FMTTYPE=image/png:https://fsgv.ca/wp-content/uploads/2021/11/Consumerism768x450.png
END:VEVENT
BEGIN:VEVENT
DTSTART;TZID=America/Vancouver:20221208T170000
DTEND;TZID=America/Vancouver:20221208T180000
DTSTAMP:20260421T232353
CREATED:20221117T192956Z
LAST-MODIFIED:20221117T192956Z
UID:10000620-1670518800-1670522400@fsgv.ca
SUMMARY:Consumerism in Spanish
DESCRIPTION:PRESENTED IN SPANISH: \nOur world is constantly equating happiness with buying and consuming material things. Ads surround us with messages encouraging us to want\, buy\, and have MORE. There’s a high cost of consumerism on your health\, financial stability\, our environment\, and social equality. Come unpack consumerism with us: what it is and how to manage the influence it has on us. 
URL:https://fsgv.ca/event/consumerism-in-spanish/
LOCATION:Teams
CATEGORIES:Financial Empowerment,Virtual Events
ATTACH;FMTTYPE=image/png:https://fsgv.ca/wp-content/uploads/2021/11/Consumerism768x450.png
END:VEVENT
BEGIN:VEVENT
DTSTART;TZID=America/Vancouver:20221208T143000
DTEND;TZID=America/Vancouver:20221208T153000
DTSTAMP:20260421T232353
CREATED:20221117T192716Z
LAST-MODIFIED:20221122T011201Z
UID:10000619-1670509800-1670513400@fsgv.ca
SUMMARY:Budgeting for the Holidays in Farsi
DESCRIPTION:Dealing with the pressures of the holidays can be overwhelming! Join us for this free workshop on creating a realistic holiday budget and strategies for keeping the cost of giving within your means.
URL:https://fsgv.ca/event/budgeting-for-the-holidays-in-farsi/
LOCATION:Teams
CATEGORIES:Financial Empowerment,Virtual Events
ATTACH;FMTTYPE=image/jpeg:https://fsgv.ca/wp-content/uploads/2022/11/pexels-cottonbro-studio-5791678_20.jpg
END:VEVENT
BEGIN:VEVENT
DTSTART;TZID=America/Vancouver:20221207T100000
DTEND;TZID=America/Vancouver:20221207T110000
DTSTAMP:20260421T232353
CREATED:20221117T015045Z
LAST-MODIFIED:20221122T011313Z
UID:10000618-1670407200-1670410800@fsgv.ca
SUMMARY:Budgeting for the Holidays
DESCRIPTION:Dealing with the pressures of the holidays can be overwhelming! Join us for this free workshop on creating a realistic holiday budget and strategies for keeping the cost of giving within your means.
URL:https://fsgv.ca/event/budgeting-for-the-holidays/
LOCATION:Teams
CATEGORIES:Financial Empowerment,Virtual Events
ATTACH;FMTTYPE=image/jpeg:https://fsgv.ca/wp-content/uploads/2022/11/pexels-cottonbro-studio-5791678.jpg
END:VEVENT
BEGIN:VEVENT
DTSTART;TZID=America/Vancouver:20221205T170000
DTEND;TZID=America/Vancouver:20221205T180000
DTSTAMP:20260421T232353
CREATED:20221029T001452Z
LAST-MODIFIED:20221122T013536Z
UID:10000616-1670259600-1670263200@fsgv.ca
SUMMARY:Preparing a Will in Cantonese
DESCRIPTION:Presented in Cantonese: \nHaving a will is important for you and the people you leave behind. Did you know they will need it even for things like cancelling your phone plan? This workshop makes wills easy. Together we’ll go over a will’s major pieces\, the benefits of having one\, and things and options to consider when making yours. 
URL:https://fsgv.ca/event/preparing-a-will-in-cantonese/
LOCATION:Teams
CATEGORIES:Financial Empowerment,Virtual Events
ATTACH;FMTTYPE=image/jpeg:https://fsgv.ca/wp-content/uploads/2022/10/pexels-sklei-1722957_50.jpg
END:VEVENT
BEGIN:VEVENT
DTSTART;TZID=America/Vancouver:20221202T120000
DTEND;TZID=America/Vancouver:20221202T130000
DTSTAMP:20260421T232353
CREATED:20221117T014803Z
LAST-MODIFIED:20221122T011334Z
UID:10000617-1669982400-1669986000@fsgv.ca
SUMMARY:Budgeting for the Holidays
DESCRIPTION:Dealing with the pressures of the holidays can be overwhelming! Join us for this free workshop on creating a realistic holiday budget and strategies for keeping the cost of giving within your means.
URL:https://fsgv.ca/event/holiday-budgeting/
LOCATION:Teams
CATEGORIES:Financial Empowerment,Virtual Events
ATTACH;FMTTYPE=image/jpeg:https://fsgv.ca/wp-content/uploads/2022/11/pexels-cottonbro-studio-5791678.jpg
END:VEVENT
BEGIN:VEVENT
DTSTART;TZID=America/Vancouver:20221124T170000
DTEND;TZID=America/Vancouver:20221124T180000
DTSTAMP:20260421T232353
CREATED:20221028T231725Z
LAST-MODIFIED:20221028T231725Z
UID:10000615-1669309200-1669312800@fsgv.ca
SUMMARY:Surviving & Thriving in Financially Uncertain Times in Spanish
DESCRIPTION:Presented in Spanish: \nJoin our Financial Empowerment team for a workshop where we’ll look at revising your budget by prioritizing expenses and strategizing for saving. We’ll also explore how to approach investing investing during uncertain times. 
URL:https://fsgv.ca/event/surviving-thriving-in-financially-uncertain-times-4/
LOCATION:Teams
CATEGORIES:Community Programs,Financial Empowerment,Virtual Events
ORGANIZER;CN="Community Programs":MAILTO:ceds-nw@fsgv.ca
END:VEVENT
BEGIN:VEVENT
DTSTART;TZID=America/Vancouver:20221124T150000
DTEND;TZID=America/Vancouver:20221124T160000
DTSTAMP:20260421T232353
CREATED:20221028T231419Z
LAST-MODIFIED:20221028T231419Z
UID:10000614-1669302000-1669305600@fsgv.ca
SUMMARY:Surviving & Thriving in Financially Uncertain Times
DESCRIPTION:Join our Financial Empowerment team for a workshop where we’ll look at revising your budget by prioritizing expenses and strategizing for saving. We’ll also explore how to approach investing investing during uncertain times. 
URL:https://fsgv.ca/event/surviving-thriving-in-financially-uncertain-times-3/
LOCATION:Teams
CATEGORIES:Community Programs,Financial Empowerment,Virtual Events
ORGANIZER;CN="Community Programs":MAILTO:ceds-nw@fsgv.ca
END:VEVENT
BEGIN:VEVENT
DTSTART;TZID=America/Vancouver:20221123T100000
DTEND;TZID=America/Vancouver:20221123T110000
DTSTAMP:20260421T232353
CREATED:20221028T230713Z
LAST-MODIFIED:20221028T230713Z
UID:10000613-1669197600-1669201200@fsgv.ca
SUMMARY:Surviving & Thriving in Financially Uncertain Times
DESCRIPTION:Join our Financial Empowerment team for a workshop where we’ll look at revising your budget by prioritizing expenses and strategizing for saving. We’ll also explore how to approach investing investing during uncertain times. 
URL:https://fsgv.ca/event/surviving-thriving-in-financially-uncertain-times-2/
LOCATION:Teams
CATEGORIES:Community Programs,Financial Empowerment,Virtual Events
ORGANIZER;CN="Community Programs":MAILTO:ceds-nw@fsgv.ca
END:VEVENT
BEGIN:VEVENT
DTSTART;TZID=America/Vancouver:20221122T093000
DTEND;TZID=America/Vancouver:20221122T123000
DTSTAMP:20260421T232353
CREATED:20221019T043423Z
LAST-MODIFIED:20221019T043423Z
UID:10000611-1669109400-1669120200@fsgv.ca
SUMMARY:Train the Trainer
DESCRIPTION:Are you frontline staff looking to improve how you help clients with financial struggles? \nJoin us for a FREE financial literacy education workshop! As a frontline worker\, you play an extremely important role in supporting your community members – Train the Trainer will equip you with yet another set of tools and skills to offer your vulnerable clients. \nWhat you’ll gain: \n\nConfidence in teaching your clients the fundamentals of money management (including budgeting\, saving\, and investing)\, navigating government benefits\, and more\nThe ability to recognize and respond to clients who are struggling financially\nKnowledge about community services available to your clients\nCommunication skills for difficult conversations with your clients around money\nTrauma-informed methods for supporting clients\n\nThis is an online workshop hosted on Microsoft Teams
URL:https://fsgv.ca/event/train-the-trainer-2/
LOCATION:Teams
CATEGORIES:Financial Empowerment,Virtual Events
ATTACH;FMTTYPE=image/jpeg:https://fsgv.ca/wp-content/uploads/2019/12/HAPPYSTAFF.jpg
END:VEVENT
BEGIN:VEVENT
DTSTART;TZID=America/Vancouver:20221118T120000
DTEND;TZID=America/Vancouver:20221118T130000
DTSTAMP:20260421T232354
CREATED:20221028T230436Z
LAST-MODIFIED:20221028T230436Z
UID:10000612-1668772800-1668776400@fsgv.ca
SUMMARY:Surviving & Thriving in Financially Uncertain Times
DESCRIPTION:Join our Financial Empowerment team for a workshop where we’ll look at revising your budget by prioritizing expenses and strategizing for saving. We’ll also explore how to approach investing investing during uncertain times. 
URL:https://fsgv.ca/event/surviving-thriving-in-financially-uncertain-times/
LOCATION:Teams
CATEGORIES:Financial Empowerment,Virtual Events
ORGANIZER;CN="Community Programs":MAILTO:ceds-nw@fsgv.ca
END:VEVENT
BEGIN:VEVENT
DTSTART;TZID=America/Vancouver:20221115T093000
DTEND;TZID=America/Vancouver:20221115T123000
DTSTAMP:20260421T232354
CREATED:20221019T042843Z
LAST-MODIFIED:20221019T042843Z
UID:10000610-1668504600-1668515400@fsgv.ca
SUMMARY:Train the Trainer
DESCRIPTION:Are you frontline staff looking to improve how you help clients with financial struggles? \nJoin us for a FREE financial literacy education workshop! As a frontline worker\, you play an extremely important role in supporting your community members – Train the Trainer will equip you with yet another set of tools and skills to offer your vulnerable clients. \nWhat you’ll gain: \n\nConfidence in teaching your clients the fundamentals of money management (including budgeting\, saving\, and investing)\, navigating government benefits\, and more\nThe ability to recognize and respond to clients who are struggling financially\nKnowledge about community services available to your clients\nCommunication skills for difficult conversations with your clients around money\nTrauma-informed methods for supporting clients\n\nThis is an online workshop hosted on Microsoft Teams
URL:https://fsgv.ca/event/train-the-trainer/
LOCATION:Teams
CATEGORIES:Financial Empowerment,Virtual Events
ATTACH;FMTTYPE=image/jpeg:https://fsgv.ca/wp-content/uploads/2019/12/HAPPYSTAFF.jpg
END:VEVENT
BEGIN:VEVENT
DTSTART;TZID=America/Vancouver:20221114T170000
DTEND;TZID=America/Vancouver:20221114T180000
DTSTAMP:20260421T232354
CREATED:20220917T033137Z
LAST-MODIFIED:20220921T030331Z
UID:10000607-1668445200-1668448800@fsgv.ca
SUMMARY:RESPs: Saving for Education (Vietnamese)
DESCRIPTION:Post-secondary education is expensive and we’re here to help you create an affordability plan for your child(ren). Saving for your child’s education is more affordable than you think! Join us to learn all about Registered Education Savings Plans (RESPs): from starting an RESP account at the bank to accessing government matching and top-ups.
URL:https://fsgv.ca/event/resps-saving-for-education-vietnamese/
LOCATION:Teams
CATEGORIES:Community Programs,Financial Empowerment,Virtual Events
ATTACH;FMTTYPE=image/jpeg:https://fsgv.ca/wp-content/uploads/2019/12/educationSavings@2x.jpg
END:VEVENT
BEGIN:VEVENT
DTSTART;TZID=America/Vancouver:20221110T170000
DTEND;TZID=America/Vancouver:20221110T180000
DTSTAMP:20260421T232354
CREATED:20220917T032906Z
LAST-MODIFIED:20220921T031503Z
UID:10000606-1668099600-1668103200@fsgv.ca
SUMMARY:RESPs: Saving for Education (Spanish)
DESCRIPTION:Post-secondary education is expensive and we’re here to help you create an affordability plan for your child(ren). Saving for your child’s education is more affordable than you think! Join us to learn all about Registered Education Savings Plans (RESPs): from starting an RESP account at the bank to accessing government matching and top-ups.
URL:https://fsgv.ca/event/resps-saving-for-education-spanish/
LOCATION:Teams
CATEGORIES:Community Programs,Financial Empowerment,Virtual Events
ATTACH;FMTTYPE=image/jpeg:https://fsgv.ca/wp-content/uploads/2019/12/educationSavings@2x.jpg
END:VEVENT
BEGIN:VEVENT
DTSTART;TZID=America/Vancouver:20221110T150000
DTEND;TZID=America/Vancouver:20221110T160000
DTSTAMP:20260421T232354
CREATED:20220917T032631Z
LAST-MODIFIED:20220921T031754Z
UID:10000605-1668092400-1668096000@fsgv.ca
SUMMARY:RESPs: Saving for Education (Farsi)
DESCRIPTION:Post-secondary education is expensive and we’re here to help you create an affordability plan for your child(ren). Saving for your child’s education is more affordable than you think! Join us to learn all about Registered Education Savings Plans (RESPs): from starting an RESP account at the bank to accessing government matching and top-ups.
URL:https://fsgv.ca/event/resps-saving-for-education-farsi/
LOCATION:Teams
CATEGORIES:Community Programs,Financial Empowerment,Virtual Events
ATTACH;FMTTYPE=image/jpeg:https://fsgv.ca/wp-content/uploads/2019/12/educationSavings@2x.jpg
END:VEVENT
BEGIN:VEVENT
DTSTART;TZID=America/Vancouver:20221109T100000
DTEND;TZID=America/Vancouver:20221109T110000
DTSTAMP:20260421T232354
CREATED:20220917T032414Z
LAST-MODIFIED:20220921T031916Z
UID:10000604-1667988000-1667991600@fsgv.ca
SUMMARY:RESPs: Saving for Education
DESCRIPTION:Post-secondary education is expensive and we’re here to help you create an affordability plan for your child(ren). Saving for your child’s education is more affordable than you think! Join us to learn all about Registered Education Savings Plans (RESPs): from starting an RESP account at the bank to accessing government matching and top-ups.
URL:https://fsgv.ca/event/resps-saving-for-education-2/
LOCATION:Teams
CATEGORIES:Community Programs,Financial Empowerment,Virtual Events
ATTACH;FMTTYPE=image/jpeg:https://fsgv.ca/wp-content/uploads/2019/12/educationSavings@2x.jpg
END:VEVENT
BEGIN:VEVENT
DTSTART;TZID=America/Vancouver:20221104T120000
DTEND;TZID=America/Vancouver:20221104T130000
DTSTAMP:20260421T232354
CREATED:20220917T032143Z
LAST-MODIFIED:20220921T032250Z
UID:10000603-1667563200-1667566800@fsgv.ca
SUMMARY:RESPs: Saving for Education
DESCRIPTION:Post-secondary education is expensive and we’re here to help you create an affordability plan for your child(ren). Saving for your child’s education is more affordable than you think! Join us to learn all about Registered Education Savings Plans (RESPs): from starting an RESP account at the bank to accessing government matching and top-ups.
URL:https://fsgv.ca/event/resps-saving-for-education/
LOCATION:Teams
CATEGORIES:Community Programs,Financial Empowerment,Virtual Events
ATTACH;FMTTYPE=image/jpeg:https://fsgv.ca/wp-content/uploads/2019/12/educationSavings@2x.jpg
END:VEVENT
BEGIN:VEVENT
DTSTART;TZID=America/Vancouver:20221031T170000
DTEND;TZID=America/Vancouver:20221031T180000
DTSTAMP:20260421T232354
CREATED:20220917T031842Z
LAST-MODIFIED:20220921T035431Z
UID:10000602-1667235600-1667239200@fsgv.ca
SUMMARY:Debt
DESCRIPTION:Learn how to manage debt wisely\, how to avoid credit debt\, and how to get out from under debt. 
URL:https://fsgv.ca/event/debt-3/
LOCATION:Teams
CATEGORIES:Community Programs,Financial Empowerment,Virtual Events
ATTACH;FMTTYPE=image/jpeg:https://fsgv.ca/wp-content/uploads/2022/08/iStock-1282721979.jpg
END:VEVENT
BEGIN:VEVENT
DTSTART;TZID=America/Vancouver:20221027T170000
DTEND;TZID=America/Vancouver:20221027T180000
DTSTAMP:20260421T232354
CREATED:20220917T031600Z
LAST-MODIFIED:20220921T034035Z
UID:10000601-1666890000-1666893600@fsgv.ca
SUMMARY:Debt (Spanish)
DESCRIPTION:Learn how to manage debt wisely\, how to avoid credit debt\, and how to get out from under debt. 
URL:https://fsgv.ca/event/debt-spanish/
LOCATION:Teams
CATEGORIES:Community Programs,Financial Empowerment,Virtual Events
ATTACH;FMTTYPE=image/jpeg:https://fsgv.ca/wp-content/uploads/2022/08/iStock-1282721979.jpg
END:VEVENT
BEGIN:VEVENT
DTSTART;TZID=America/Vancouver:20221027T150000
DTEND;TZID=America/Vancouver:20221027T160000
DTSTAMP:20260421T232354
CREATED:20220917T031404Z
LAST-MODIFIED:20220921T034130Z
UID:10000600-1666882800-1666886400@fsgv.ca
SUMMARY:Debt (Farsi)
DESCRIPTION:Learn how to manage debt wisely\, how to avoid credit debt\, and how to get out from under debt. 
URL:https://fsgv.ca/event/debt-farsi/
LOCATION:Teams
CATEGORIES:Community Programs,Financial Empowerment,Virtual Events
ATTACH;FMTTYPE=image/jpeg:https://fsgv.ca/wp-content/uploads/2022/08/iStock-1282721979.jpg
END:VEVENT
BEGIN:VEVENT
DTSTART;TZID=America/Vancouver:20221026T100000
DTEND;TZID=America/Vancouver:20221026T110000
DTSTAMP:20260421T232354
CREATED:20220917T031141Z
LAST-MODIFIED:20220921T034224Z
UID:10000599-1666778400-1666782000@fsgv.ca
SUMMARY:Debt
DESCRIPTION:Learn how to manage debt wisely\, how to avoid credit debt\, and how to get out from under debt. 
URL:https://fsgv.ca/event/debt-2/
LOCATION:Teams
CATEGORIES:Community Programs,Financial Empowerment,Virtual Events
ATTACH;FMTTYPE=image/jpeg:https://fsgv.ca/wp-content/uploads/2022/08/iStock-1282721979.jpg
END:VEVENT
BEGIN:VEVENT
DTSTART;TZID=America/Vancouver:20221021T120000
DTEND;TZID=America/Vancouver:20221021T130000
DTSTAMP:20260421T232354
CREATED:20220917T030912Z
LAST-MODIFIED:20220921T034256Z
UID:10000598-1666353600-1666357200@fsgv.ca
SUMMARY:Debt
DESCRIPTION:Learn how to manage debt wisely\, how to avoid credit debt\, and how to get out from under debt. 
URL:https://fsgv.ca/event/debt/
LOCATION:Teams
CATEGORIES:Community Programs,Financial Empowerment,Virtual Events
ATTACH;FMTTYPE=image/jpeg:https://fsgv.ca/wp-content/uploads/2022/08/iStock-1282721979.jpg
END:VEVENT
BEGIN:VEVENT
DTSTART;TZID=America/Vancouver:20221017T170000
DTEND;TZID=America/Vancouver:20221017T180000
DTSTAMP:20260421T232354
CREATED:20220917T030415Z
LAST-MODIFIED:20220921T034745Z
UID:10000597-1666026000-1666029600@fsgv.ca
SUMMARY:Credit
DESCRIPTION:Explore the good and bad types of credit\, when it’s wise to use credit\, your rights and responsibilities for using credit\, and how to build a good credit score — you’ll even leave understanding why having good credit matters.
URL:https://fsgv.ca/event/credit-2/
LOCATION:Teams
CATEGORIES:Community Programs,Financial Empowerment,Virtual Events
ATTACH;FMTTYPE=image/jpeg:https://fsgv.ca/wp-content/uploads/2022/09/pexels-ketut-subiyanto-4308051-scaled-e1663706833484.jpg
END:VEVENT
BEGIN:VEVENT
DTSTART;TZID=America/Vancouver:20221013T170000
DTEND;TZID=America/Vancouver:20221013T180000
DTSTAMP:20260421T232354
CREATED:20220917T024815Z
LAST-MODIFIED:20220921T034819Z
UID:10000596-1665680400-1665684000@fsgv.ca
SUMMARY:Credit (Spanish)
DESCRIPTION:Explore the good and bad types of credit\, when it’s wise to use credit\, your rights and responsibilities for using credit\, and how to build a good credit score — you’ll even leave understanding why having good credit matters.
URL:https://fsgv.ca/event/credit-spanish/
LOCATION:Teams
CATEGORIES:Community Programs,Financial Empowerment,Virtual Events
ATTACH;FMTTYPE=image/jpeg:https://fsgv.ca/wp-content/uploads/2022/09/pexels-ketut-subiyanto-4308051-scaled-e1663706833484.jpg
END:VEVENT
END:VCALENDAR