BEGIN:VCALENDAR
VERSION:2.0
PRODID:-//Family Services of Greater Vancouver - ECPv6.15.20//NONSGML v1.0//EN
CALSCALE:GREGORIAN
METHOD:PUBLISH
X-WR-CALNAME:Family Services of Greater Vancouver
X-ORIGINAL-URL:https://fsgv.ca
X-WR-CALDESC:Events for Family Services of Greater Vancouver
REFRESH-INTERVAL;VALUE=DURATION:PT1H
X-Robots-Tag:noindex
X-PUBLISHED-TTL:PT1H
BEGIN:VTIMEZONE
TZID:America/Vancouver
BEGIN:DAYLIGHT
TZOFFSETFROM:-0800
TZOFFSETTO:-0700
TZNAME:PDT
DTSTART:20210314T100000
END:DAYLIGHT
BEGIN:STANDARD
TZOFFSETFROM:-0700
TZOFFSETTO:-0800
TZNAME:PST
DTSTART:20211107T090000
END:STANDARD
BEGIN:DAYLIGHT
TZOFFSETFROM:-0800
TZOFFSETTO:-0700
TZNAME:PDT
DTSTART:20220313T100000
END:DAYLIGHT
BEGIN:STANDARD
TZOFFSETFROM:-0700
TZOFFSETTO:-0800
TZNAME:PST
DTSTART:20221106T090000
END:STANDARD
BEGIN:DAYLIGHT
TZOFFSETFROM:-0800
TZOFFSETTO:-0700
TZNAME:PDT
DTSTART:20230312T100000
END:DAYLIGHT
BEGIN:STANDARD
TZOFFSETFROM:-0700
TZOFFSETTO:-0800
TZNAME:PST
DTSTART:20231105T090000
END:STANDARD
END:VTIMEZONE
BEGIN:VEVENT
DTSTART;TZID=America/Vancouver:20221027T170000
DTEND;TZID=America/Vancouver:20221027T180000
DTSTAMP:20260422T021749
CREATED:20220917T031600Z
LAST-MODIFIED:20220921T034035Z
UID:10000601-1666890000-1666893600@fsgv.ca
SUMMARY:Debt (Spanish)
DESCRIPTION:Learn how to manage debt wisely\, how to avoid credit debt\, and how to get out from under debt. 
URL:https://fsgv.ca/event/debt-spanish/
LOCATION:Teams
CATEGORIES:Community Programs,Financial Empowerment,Virtual Events
ATTACH;FMTTYPE=image/jpeg:https://fsgv.ca/wp-content/uploads/2022/08/iStock-1282721979.jpg
END:VEVENT
BEGIN:VEVENT
DTSTART;TZID=America/Vancouver:20221027T150000
DTEND;TZID=America/Vancouver:20221027T160000
DTSTAMP:20260422T021749
CREATED:20220917T031404Z
LAST-MODIFIED:20220921T034130Z
UID:10000600-1666882800-1666886400@fsgv.ca
SUMMARY:Debt (Farsi)
DESCRIPTION:Learn how to manage debt wisely\, how to avoid credit debt\, and how to get out from under debt. 
URL:https://fsgv.ca/event/debt-farsi/
LOCATION:Teams
CATEGORIES:Community Programs,Financial Empowerment,Virtual Events
ATTACH;FMTTYPE=image/jpeg:https://fsgv.ca/wp-content/uploads/2022/08/iStock-1282721979.jpg
END:VEVENT
BEGIN:VEVENT
DTSTART;TZID=America/Vancouver:20221026T100000
DTEND;TZID=America/Vancouver:20221026T110000
DTSTAMP:20260422T021749
CREATED:20220917T031141Z
LAST-MODIFIED:20220921T034224Z
UID:10000599-1666778400-1666782000@fsgv.ca
SUMMARY:Debt
DESCRIPTION:Learn how to manage debt wisely\, how to avoid credit debt\, and how to get out from under debt. 
URL:https://fsgv.ca/event/debt-2/
LOCATION:Teams
CATEGORIES:Community Programs,Financial Empowerment,Virtual Events
ATTACH;FMTTYPE=image/jpeg:https://fsgv.ca/wp-content/uploads/2022/08/iStock-1282721979.jpg
END:VEVENT
BEGIN:VEVENT
DTSTART;TZID=America/Vancouver:20221021T120000
DTEND;TZID=America/Vancouver:20221021T130000
DTSTAMP:20260422T021749
CREATED:20220917T030912Z
LAST-MODIFIED:20220921T034256Z
UID:10000598-1666353600-1666357200@fsgv.ca
SUMMARY:Debt
DESCRIPTION:Learn how to manage debt wisely\, how to avoid credit debt\, and how to get out from under debt. 
URL:https://fsgv.ca/event/debt/
LOCATION:Teams
CATEGORIES:Community Programs,Financial Empowerment,Virtual Events
ATTACH;FMTTYPE=image/jpeg:https://fsgv.ca/wp-content/uploads/2022/08/iStock-1282721979.jpg
END:VEVENT
BEGIN:VEVENT
DTSTART;TZID=America/Vancouver:20221017T170000
DTEND;TZID=America/Vancouver:20221017T180000
DTSTAMP:20260422T021749
CREATED:20220917T030415Z
LAST-MODIFIED:20220921T034745Z
UID:10000597-1666026000-1666029600@fsgv.ca
SUMMARY:Credit
DESCRIPTION:Explore the good and bad types of credit\, when it’s wise to use credit\, your rights and responsibilities for using credit\, and how to build a good credit score — you’ll even leave understanding why having good credit matters.
URL:https://fsgv.ca/event/credit-2/
LOCATION:Teams
CATEGORIES:Community Programs,Financial Empowerment,Virtual Events
ATTACH;FMTTYPE=image/jpeg:https://fsgv.ca/wp-content/uploads/2022/09/pexels-ketut-subiyanto-4308051-scaled-e1663706833484.jpg
END:VEVENT
BEGIN:VEVENT
DTSTART;TZID=America/Vancouver:20221013T170000
DTEND;TZID=America/Vancouver:20221013T180000
DTSTAMP:20260422T021749
CREATED:20220917T024815Z
LAST-MODIFIED:20220921T034819Z
UID:10000596-1665680400-1665684000@fsgv.ca
SUMMARY:Credit (Spanish)
DESCRIPTION:Explore the good and bad types of credit\, when it’s wise to use credit\, your rights and responsibilities for using credit\, and how to build a good credit score — you’ll even leave understanding why having good credit matters.
URL:https://fsgv.ca/event/credit-spanish/
LOCATION:Teams
CATEGORIES:Community Programs,Financial Empowerment,Virtual Events
ATTACH;FMTTYPE=image/jpeg:https://fsgv.ca/wp-content/uploads/2022/09/pexels-ketut-subiyanto-4308051-scaled-e1663706833484.jpg
END:VEVENT
BEGIN:VEVENT
DTSTART;TZID=America/Vancouver:20221013T150000
DTEND;TZID=America/Vancouver:20221013T160000
DTSTAMP:20260422T021749
CREATED:20220917T024546Z
LAST-MODIFIED:20220921T034849Z
UID:10000595-1665673200-1665676800@fsgv.ca
SUMMARY:Credit (Farsi)
DESCRIPTION:Explore the good and bad types of credit\, when it’s wise to use credit\, your rights and responsibilities for using credit\, and how to build a good credit score — you’ll even leave understanding why having good credit matters. 
URL:https://fsgv.ca/event/credit-farsi/
LOCATION:Teams
CATEGORIES:Community Programs,Financial Empowerment,Virtual Events
ATTACH;FMTTYPE=image/jpeg:https://fsgv.ca/wp-content/uploads/2022/09/pexels-ketut-subiyanto-4308051-scaled-e1663706833484.jpg
END:VEVENT
BEGIN:VEVENT
DTSTART;TZID=America/Vancouver:20221012T100000
DTEND;TZID=America/Vancouver:20221012T110000
DTSTAMP:20260422T021749
CREATED:20220917T024303Z
LAST-MODIFIED:20220921T034927Z
UID:10000594-1665568800-1665572400@fsgv.ca
SUMMARY:Credit (Vietnamese)
DESCRIPTION:Explore the good and bad types of credit\, when it’s wise to use credit\, your rights and responsibilities for using credit\, and how to build a good credit score — you’ll even leave understanding why having good credit matters. 
URL:https://fsgv.ca/event/credit-vietnamese/
LOCATION:Teams
CATEGORIES:Community Programs,Financial Empowerment,Virtual Events
ATTACH;FMTTYPE=image/jpeg:https://fsgv.ca/wp-content/uploads/2022/09/pexels-ketut-subiyanto-4308051-scaled-e1663706833484.jpg
END:VEVENT
BEGIN:VEVENT
DTSTART;TZID=America/Vancouver:20221007T120000
DTEND;TZID=America/Vancouver:20221007T130000
DTSTAMP:20260422T021749
CREATED:20220917T023948Z
LAST-MODIFIED:20220921T035011Z
UID:10000593-1665144000-1665147600@fsgv.ca
SUMMARY:Credit
DESCRIPTION:Explore the good and bad types of credit\, when it’s wise to use credit\, your rights and responsibilities for using credit\, and how to build a good credit score — you’ll even leave understanding why having good credit matters. 
URL:https://fsgv.ca/event/credit/
LOCATION:Teams
CATEGORIES:Community Programs,Financial Empowerment,Virtual Events
ATTACH;FMTTYPE=image/jpeg:https://fsgv.ca/wp-content/uploads/2022/09/pexels-ketut-subiyanto-4308051-scaled-e1663706833484.jpg
END:VEVENT
BEGIN:VEVENT
DTSTART;TZID=America/Vancouver:20221003T170000
DTEND;TZID=America/Vancouver:20221003T180000
DTSTAMP:20260422T021749
CREATED:20220917T023031Z
LAST-MODIFIED:20220922T030637Z
UID:10000592-1664816400-1664820000@fsgv.ca
SUMMARY:Banks and Credit Unions (Vietnamese)
DESCRIPTION:Reduce your banking costs! Learn about account types\, service options\, and basic investments. Presented in Vietnamese.  
URL:https://fsgv.ca/event/banks-and-credit-unions/
LOCATION:Teams
CATEGORIES:Community Programs,Financial Empowerment,Virtual Events
ATTACH;FMTTYPE=image/jpeg:https://fsgv.ca/wp-content/uploads/2022/09/pexels-rodnae-productions-7821711_3_50_1_50-e1663707073205.jpg
END:VEVENT
BEGIN:VEVENT
DTSTART;TZID=America/Vancouver:20220929T150000
DTEND;TZID=America/Vancouver:20220929T160000
DTSTAMP:20260422T021749
CREATED:20220922T030908Z
LAST-MODIFIED:20220922T030908Z
UID:10000609-1664463600-1664467200@fsgv.ca
SUMMARY:Banks and Credit Unions
DESCRIPTION:Reduce your banking costs! Learn about account types\, service options\, and basic investments.
URL:https://fsgv.ca/event/banks-and-credit-unions-3/
LOCATION:Teams
CATEGORIES:Community Programs,Financial Empowerment,Virtual Events
ATTACH;FMTTYPE=image/jpeg:https://fsgv.ca/wp-content/uploads/2022/09/pexels-rodnae-productions-7821711_3_50_1_50-e1663707073205.jpg
END:VEVENT
BEGIN:VEVENT
DTSTART;TZID=America/Vancouver:20220928T100000
DTEND;TZID=America/Vancouver:20220928T110000
DTSTAMP:20260422T021749
CREATED:20220922T030705Z
LAST-MODIFIED:20220922T030705Z
UID:10000608-1664359200-1664362800@fsgv.ca
SUMMARY:Banks and Credit Unions
DESCRIPTION:Reduce your banking costs! Learn about account types\, service options\, and basic investments.
URL:https://fsgv.ca/event/banks-and-credit-unions-2/
LOCATION:Teams
CATEGORIES:Community Programs,Financial Empowerment,Virtual Events
ATTACH;FMTTYPE=image/jpeg:https://fsgv.ca/wp-content/uploads/2022/09/pexels-rodnae-productions-7821711_3_50_1_50-e1663707073205.jpg
END:VEVENT
END:VCALENDAR